{"text_format":"1","workbook":"xlsx","n_sheets":5,"sheets":["情報入力","シミュレーション","支払い計画表","シミュレーション※金額入力可能","支払い計画表※金額入力可能"],"not_rendered":{"charts":0,"images":0,"macros":1,"external_links":0,"defined_names":38,"comments":0,"pivot_tables":0},"unopened":[],"bounds":{"document_bytes":16777216,"sheet_cells":100000,"rows_first":2000,"rows_last":500,"rows_between":2000,"halvings":0,"cell_chars":16384,"cell_head_chars":4096},"cells_cut":0,"cells_raw":0,"read":"whole","date_system":"1900"}

{"sheet":"情報入力","index":0,"n_rows":216,"n_cols":26,"rows_kept":216,"cut":false,"hidden":false,"merged":[[34,4,34,5]]}
["学校情報"]
["学校名",null,"課程"]
["学科名",null,{"$f":"IFERROR(VLOOKUP($B$3,$M$6:$Y$216,2,FALSE),\"\")","v":""}]
[]
["学年","費用項目","費用",null,null,null,null,null,"費用",null,null,null,"学科名","課程","入学金","入学時手続金","1年次教材費","後期学費","2年次学費","2年次教材費","3年次学費","3年次教材費","4年次学費","4年次教材費","海外研修費"]
["1年次","入学金",{"$f":"IFERROR(VLOOKUP($B$3,$M$6:$Y$216,3,FALSE),\"\")","v":""},"円",null,null,null,null,{"$f":"IFERROR(VLOOKUP($B$3,$M$6:$Y$216,3,FALSE),\"\")","v":""},"新潟ビジネス専門学校",null,null,"医療秘書・事務学科/医療秘書コース",2,70000,575000,230000,315000,890000,230000,0,0,0,0,211000,"1年次に実施"]
[null,"入学手続時納入金",{"$f":"IFERROR(VLOOKUP($B$3,$M$6:$Y$216,4,FALSE),\"\")","v":""},"円",null,null,null,null,{"$f":"IFERROR(VLOOKUP($B$3,$M$6:$Y$216,4,FALSE),\"\")","v":""},"新潟会計ビジネス専門学校",null,null,"医療秘書・事務学科/医療事務総合コース",2,70000,575000,230000,315000,890000,230000,0,0,0,0,211000,"1年次に実施"]
[null,"諸経費（教材費など）",{"$f":"IFERROR(VLOOKUP($B$3,$M$6:$Y$216,5,FALSE),\"\")","v":""},"円",null,null,null,null,{"$f":"IFERROR(VLOOKUP($B$3,$M$6:$Y$216,5,FALSE),\"\")","v":""},"新潟公務員法律専門学校",null,null,"医療秘書・事務学科/医療通訳士コース",2,70000,575000,230000,315000,890000,230000,0,0,0,0,211000,"1年次に実施"]
[null,"後期（Ⅱ期）学費",{"$f":"IFERROR(VLOOKUP($B$3,$M$6:$Y$216,6,FALSE),\"\")","v":""},"円",null,null,null,null,{"$f":"IFERROR(VLOOKUP($B$3,$M$6:$Y$216,6,FALSE),\"\")","v":""},"新潟コンピュータ専門学校",null,null,"医療秘書・事務学科/調剤薬局事務コース",2,70000,575000,230000,315000,890000,230000,0,0,0,0,211000,"1年次に実施"]
[null,"1年目の学費計",{"$f":"SUM(C6:C9)","v":0},"円",null,null,null,null,{"$f":"SUM(I6:I9)","v":0},"新潟デザイン専門学校",null,null,"医療秘書・事務学科/デュアルコース",2,70000,575000,230000,315000,890000,230000,0,0,0,0,211000,"1年次に実施"]
["学年","費用項目","費用",null,null,null,null,null,"費用","長岡公務員・情報ビジネス専門学校",null,null,"ＩＴ医療情報学科",2,70000,575000,260000,315000,890000,260000,0,0,0,0,211000,"1年次に実施"]
["2年次","進級時学費",{"$f":"IFERROR(VLOOKUP($B$3,$M$6:$Y$216,7,FALSE),\"\")","v":""},"円",null,null,null,null,{"$f":"IFERROR(VLOOKUP($B$3,$M$6:$Y$216,7,FALSE),\"\")","v":""},"長岡こども・医療・介護専門学校",null,null,"医薬品・登録販売者学科",2,70000,575000,200000,315000,890000,200000,0,0,0,0,211000,"1年次に実施"]
[null,"諸経費（教材費など）",{"$f":"IFERROR(VLOOKUP($B$3,$M$6:$Y$216,8,FALSE),\"\")","v":""},"円","※概算額",null,null,null,{"$f":"IFERROR(VLOOKUP($B$3,$M$6:$Y$216,8,FALSE),\"\")","v":""},"全日本ウィンタースポーツ専門学校",null,null,"販売・マーケティング学科/データマーケティングコース",2,70000,575000,200000,315000,890000,200000,0,0,0,0,211000,"1年次に実施"]
[null,"2年目の学費計",{"$f":"SUM(C12:C13)","v":0},"円",null,null,null,null,{"$f":"SUM(I12:I13)","v":0},"日本アニメ・マンガ専門学校",null,null,"販売・マーケティング学科/接客サービスコース",2,70000,575000,200000,315000,890000,200000,0,0,0,0,211000,"1年次に実施"]
["学年","費用項目","費用",null,null,null,null,null,"費用","国際ビューティモード専門学校",null,null,"販売・マーケティング学科/ファッションコース",2,70000,575000,200000,315000,890000,200000,0,0,0,0,211000,"1年次に実施"]
["3年次","進級時学費",{"$f":"IFERROR(VLOOKUP($B$3,$M$6:$Y$216,9,FALSE),\"\")","v":""},"円",null,null,null,null,{"$f":"IFERROR(VLOOKUP($B$3,$M$6:$Y$216,9,FALSE),\"\")","v":""},"国際自然環境アウトドア専門学校",null,null,"販売・マーケティング学科/デュアルコース",2,70000,575000,200000,315000,890000,200000,0,0,0,0,211000,"1年次に実施"]
[null,"諸経費（教材費など）",{"$f":"IFERROR(VLOOKUP($B$3,$M$6:$Y$216,10,FALSE),\"\")","v":""},"円","※概算額",null,null,null,{"$f":"IFERROR(VLOOKUP($B$3,$M$6:$Y$216,10,FALSE),\"\")","v":""},"伝統文化と環境福祉の専門学校",null,null,"オフィスビジネス学科",2,70000,585000,250000,325000,910000,250000,0,0,0,0,211000,"1年次に実施"]
[null,"3年目の学費計",{"$f":"SUM(C16:C17)","v":0},"円",null,null,null,null,{"$f":"SUM(I16:I17)","v":0},"上越公務員・情報ビジネス専門学校",null,null,"ビジネス秘書・事務学科",2,70000,585000,250000,325000,910000,250000,0,0,0,0,211000,"1年次に実施"]
["学年","費用項目","費用",null,null,null,null,null,"費用","国際トータルファッション専門学校",null,null,"イベントビジネス学科/イベントプランナーコース",2,70000,585000,250000,325000,910000,250000,0,0,0,0,211000,"1年次に実施"]
["4年次","進級時学費",{"$f":"IFERROR(VLOOKUP($B$3,$M$6:$Y$216,11,FALSE),\"\")","v":""},"円",null,null,null,null,{"$f":"IFERROR(VLOOKUP($B$3,$M$6:$Y$216,11,FALSE),\"\")","v":""},"国際こども・福祉カレッジ",null,null,"イベントビジネス学科/広告・Ｗｅｂプランナーコース",2,70000,585000,250000,325000,910000,250000,0,0,0,0,211000,"1年次に実施"]
[null,"諸経費（教材費など）",{"$f":"IFERROR(VLOOKUP($B$3,$M$6:$Y$216,12,FALSE),\"\")","v":""},"円",null,null,null,null,{"$f":"IFERROR(VLOOKUP($B$3,$M$6:$Y$216,12,FALSE),\"\")","v":""},"新潟工科専門学校",null,null,"イベントビジネス学科/ｅスポーツプランナーコース",2,70000,585000,250000,325000,910000,250000,0,0,0,0,211000,"1年次に実施"]
[null,"4年目の学費計",{"$f":"SUM(C20:C21)","v":0},"円",null,null,null,null,{"$f":"SUM(I20:I21)","v":0},"国際メディカル専門学校",null,null,"事業創造学科/経営ビジネスコース",2,70000,485000,240000,225000,710000,240000,0,0,0,0,211000,"1年次に実施"]
["他","海外研修旅行費",{"$f":"IFERROR(VLOOKUP($B$3,$M$6:$Y$216,13,FALSE),\"\")","v":""},"円",{"$f":"IFERROR(VLOOKUP($B$3,$M$6:$Z$215,14,FALSE)&\"\",\"\")","v":""},null,null,null,{"$f":"IFERROR(VLOOKUP($B$3,$M$6:$Y$216,13,FALSE),\"\")","v":""},"アップルスポーツカレッジ",null,null,"事業創造学科/国際ビジネスコース",2,70000,485000,240000,225000,710000,240000,0,0,0,0,211000,"1年次に実施"]
[null,"その他費用",{"$f":"SUM(C23)","v":0},"円","※海外研修旅行費は",null,null,null,{"$f":"SUM(I23)","v":0},"国際音楽・ダンス・エンタテイメント専門学校",null,null,"ビジネスライセンス学科/医療事務コース",2,70000,575000,320000,315000,890000,320000,0,0,0,0,211000,"1年次に実施"]
[null,"納入学費の総合計",{"$f":"C10+C14+C18+C22+C24","v":0},"円","コースによって金額変動します。",null,null,null,{"$f":"I10+I14+I18+I22+I24","v":0},"国際ペットワールド専門学校",null,null,"ビジネスライセンス学科/販売サービスコース",2,70000,575000,320000,315000,890000,320000,0,0,0,0,211000,"1年次に実施"]
[null,null,null,null,null,null,null,null,null,"ＪＡＰＡＮサッカーカレッジ",null,null,"ビジネスライセンス学科/オフィス事務コース",2,70000,575000,320000,315000,890000,320000,0,0,0,0,211000,"1年次に実施"]
[null,"入学前に必要な学費の総合計",{"$f":"SUM(C6:C7)","v":0},"円",null,null,null,null,null,"国際ホテル・ブライダル専門学校",null,null,"ビジネスライセンス学科/経営ビジネスコース",2,70000,575000,320000,315000,890000,320000,0,0,0,0,211000,"1年次に実施"]
[null,"入学後に必要となる学費の総合計",{"$f":"C25-C27","v":0},"円",null,null,null,null,null,"専門学校新潟国際自動車大学校",null,null,"ビジネスライセンス学科/医療事務コース ",1,70000,575000,320000,315000,0,0,0,0,0,0,211000,"1年次に実施"]
[null,null,null,null,null,null,null,null,null,"国際外語・観光・エアライン専門学校",null,null,"ビジネスライセンス学科/販売サービスコース ",1,70000,575000,320000,315000,0,0,0,0,0,0,211000,"1年次に実施"]
[null,null,null,null,null,null,null,null,null,"国際調理製菓専門学校",null,null,"ビジネスライセンス学科/オフィス事務コース ",1,70000,575000,320000,315000,0,0,0,0,0,0,211000,"1年次に実施"]
["お支払い情報",null,null,null,null,null,null,null,null,"国際映像メディア専門学校",null,null,"ビジネスライセンス学科/経営ビジネスコース ",1,70000,575000,320000,315000,0,0,0,0,0,0,211000,"1年次に実施"]
[null,null,null,null,null,null,null,null,null,"新潟農業・バイオ専門学校",null,null,"経理ビジネス学科",2,70000,590000,312000,320000,910000,346000,0,0,0,0,211000,"1年次に実施"]
[null,null,null,null,null,null,null,null,null,"新潟法律大学校",null,40000,"ITビジネス総合学科／コンピュータ会計コース",2,70000,590000,312000,320000,910000,346000,0,0,0,0,211000,"1年次に実施"]
[null,null,null,null,"種類",null,null,null,null,"三条看護・医療・歯科衛生専門学校",20000,50000,"ITビジネス総合学科／ITパスポートコース",2,70000,590000,312000,320000,910000,346000,0,0,0,0,211000,"1年次に実施"]
["Q","日本学生支援機構奨学金　月額の種類・学費支払額",null,null,"第一種",null,null,"円",null,null,30000,60000,"税理士学科　４年制",4,70000,590000,312000,320000,910000,346000,580000,346000,580000,346000,211000,"1年次に実施"]
[null,null,null,null,"奨学金の種類を入力",null,null,null,null,null,40000,70000,"税理士学科　３年制",3,70000,590000,312000,320000,910000,346000,580000,346000,0,0,211000,"1年次に実施"]
["Q","日本学生支援機構奨学金　入学時特別増額の学費支払額",null,null,null,null,null,"円",null,null,50000,73000,"税理士学科　２年制",2,70000,590000,312000,320000,910000,346000,0,0,0,0,211000,"1年次に実施"]
[null,null,null,null,null,null,null,null,null,null,53000,80000,"会計ライセンス学科／会計マスターコース",1,70000,275000,312000,175000,0,0,0,0,0,0,211000,"1年次に実施"]
[null,null,null,null,null,"奨学金の総合計",{"$f":"IFERROR(G35*C3*12+G37,\"\")","v":""},"円",null,null,60000,83000,"会計ライセンス学科／eラーニング会計コース",1,70000,275000,312000,175000,0,0,0,0,0,0,211000,"1年次に実施"]
[null,null,null,null,null,null,null,null,null,null,20000,90000,"公務員ビジネス学科",2,90000,545000,278000,355000,900000,244000,0,0,0,0,239000,"1年次に実施"]
["Q","入学手続時納入金のお支払いについて",null,null,null,null,"全納",null,null,null,30000,93000,"警察・消防学科",2,90000,545000,234000,355000,900000,251000,0,0,0,0,239000,"1年次に実施"]
[null,"分納希望の場合、入学手続時納入金納入期日までに納入可能な金額",null,null,null,null,"全納か分納を指定",null,null,null,40000,100000,"公務員速修学科",1,90000,545000,288000,355000,0,0,0,0,0,0,239000,"1年次に実施"]
[null,null,null,null,"頭金（必須）：",null,50000,"円",null,null,50000,103000,"AＩシステム科　3年制",3,70000,675000,285000,335000,1010000,320000,1010000,320000,0,0,408000,"3年次に実施"]
[null,null,null,null,null,null,"＋",null,null,null,60000,110000,"ＡＩシステム科　2年制",2,70000,675000,285000,335000,1010000,320000,0,0,0,0,408000,"2年次に実施"]
[null,null,null,null,null,null,null,"円",null,null,70000,113000,"情報システム科　３年制",3,70000,675000,285000,335000,1010000,320000,1010000,320000,0,0,408000,"3年次に実施"]
["Q","ボーナス等のお支払いについて",null,null,null,null,null,null,null,null,80000,120000,"情報システム科　２年制",2,70000,675000,285000,335000,1010000,320000,0,0,0,0,408000,"2年次に実施"]
[null,null,"1年次","夏","7月",null,null,"円",null,null,90000,123000,"ゲームクリエーター科　３年制",3,70000,715000,285000,335000,1050000,320000,1050000,320000,0,0,408000,"3年次に実施"]
[null,null,null,"冬","12月",null,null,"円",null,null,100000,130000,"ゲームクリエーター科　２年制",2,70000,715000,285000,335000,1050000,320000,0,0,0,0,408000,"2年次に実施"]
[null,null,"2年次","夏","7月",null,null,"円",null,null,110000,133000,"eスポーツ科　３年制",3,70000,715000,285000,335000,1050000,320000,1050000,320000,0,0,408000,"3年次に実施"]
[null,null,null,"冬","12月",null,null,"円",null,null,120000,140000,"eスポーツ科　２年制",2,70000,715000,285000,335000,1050000,320000,0,0,0,0,408000,"2年次に実施"]
[null,null,"3年次","夏","7月",null,null,"円",null,null,100000,143000,"ＣＧ・Ｗｅｂクリエーター科　３年制",3,70000,715000,285000,335000,1050000,320000,1050000,320000,0,0,408000,"3年次に実施"]
[null,null,null,"冬","12月",null,null,"円",null,null,200000,150000,"ＣＧ・Ｗｅｂクリエーター科　２年制",2,70000,715000,285000,335000,1050000,320000,0,0,0,0,408000,"2年次に実施"]
[null,null,"4年次","夏","7月",null,null,"円",null,null,300000,153000,"IT高度専門学科",4,70000,675000,285000,335000,1010000,320000,1010000,320000,1010000,320000,408000,"4年次に実施"]
[null,null,null,"冬","12月",null,null,"円",null,null,400000,160000,"デジタルデザイン科",3,70000,695000,300000,415000,1110000,180000,765000,190000,0,0,300000,"2年次に実施"]
[null,null,null,null,null,null,null,null,null,null,500000,163000,"グラフィックデザイン科",2,70000,695000,330000,415000,1110000,210000,0,0,0,0,300000,"2年次に実施"]
["Q","家計などから毎月お支払いただける費用",null,null,null,null,null,"円",null,null,null,170000,"イラストレーション科",2,70000,695000,330000,415000,1110000,210000,0,0,0,0,300000,"2年次に実施"]
[null,null,null,null,null,null,null,null,null,null,null,173000,"キャラクターイラストデザイン科",2,70000,695000,320000,415000,1110000,220000,0,0,0,0,300000,"2年次に実施"]
[null,null,null,null,null,null,null,null,null,null,null,180000,"美術・工芸デザイン科",2,70000,685000,350000,425000,1110000,240000,0,0,0,0,300000,"2年次に実施"]
[null,null,null,null,null,null,null,null,null,null,null,null,"写真デザイン科",2,70000,685000,290000,425000,1110000,220000,0,0,0,0,300000,"2年次に実施"]
[null,null,null,null,null,null,null,null,null,null,null,null,"雑貨・ジュエリーデザイン科",2,70000,690000,300000,430000,1120000,220000,0,0,0,0,300000,"2年次に実施"]
[null,null,null,null,null,null,null,null,null,null,null,null,"デザインマスターズ科",1,70000,695000,100000,415000,0,0,0,0,0,0,0]
[null,null,null,null,null,null,null,null,null,null,null,null,"クリエイティブデザイン科",4,70000,695000,330000,415000,1110000,210000,765000,70000,555000,70000,300000,"2年次に実施"]
[null,null,null,null,null,null,null,null,null,null,null,null,"ビジネス公務員科",2,70000,570000,251000,310000,880000,251000,0,0,0,0,220000,"1年次に実施"]
[null,null,null,null,null,null,null,null,null,null,null,null,"公務員科",1,70000,570000,251000,310000,0,0,0,0,0,0,220000,"1年次に実施"]
[null,null,null,null,null,null,null,null,null,null,null,null,"総合ビジネス科",2,70000,570000,251000,310000,880000,251000,0,0,0,0,220000,"1年次に実施"]
[null,null,null,null,null,null,null,null,null,null,null,null,"情報ビジネス科",2,70000,570000,251000,310000,880000,251000,0,0,0,0,220000,"1年次に実施"]
[null,null,null,null,null,null,null,null,null,null,null,null,"ビジネスライセンス科",1,70000,570000,251000,310000,0,0,0,0,0,0,220000,"1年次に実施"]
[null,null,null,null,null,null,null,null,null,null,null,null,"情報システム科",2,70000,570000,251000,310000,880000,251000,0,0,0,0,220000,"1年次に実施"]
[null,null,null,null,null,null,null,null,null,null,null,null,"高度ITシステム科",3,70000,570000,251000,310000,880000,251000,880000,251000,0,0,220000,"1年次に実施"]
[null,null,null,null,null,null,null,null,null,null,null,null,"ＣＧデザイン科",2,70000,570000,251000,310000,880000,251000,0,0,0,0,220000,"1年次に実施"]
[null,null,null,null,null,null,null,null,null,null,null,null,"こども保育総合科",3,70000,500000,258000,240000,740000,258000,740000,258000,0,0,220000,"1年次に実施"]
[null,null,null,null,null,null,null,null,null,null,null,null,"こども保育幼稚園科",2,70000,525000,258000,265000,790000,258000,0,0,0,0,220000,"1年次に実施"]
[null,null,null,null,null,null,null,null,null,null,null,null,"医療秘書・ビジネス科",2,70000,550000,258000,290000,840000,258000,0,0,0,0,220000,"1年次に実施"]
[null,null,null,null,null,null,null,null,null,null,null,null,"医療事務ライセンス科",1,70000,550000,258000,290000,0,0,0,0,0,0,220000,"1年次に実施"]
[null,null,null,null,null,null,null,null,null,null,null,null,"介護福祉科",2,70000,550000,258000,290000,840000,258000,0,0,0,0,220000,"1年次に実施"]
[null,null,null,null,null,null,null,null,null,null,null,null,"スノーボード専攻科",2,70000,745000,560000,485000,1230000,540000,0,0,0,0,0]
[null,null,null,null,null,null,null,null,null,null,null,null,"スキー専攻科",2,70000,745000,530000,485000,1230000,460000,0,0,0,0,0]
[null,null,null,null,null,null,null,null,null,null,null,null,"マンガクリエイト科",2,90000,675000,340000,445000,1120000,180000,0,0,0,0,370000,"2年次に実施"]
[null,null,null,null,null,null,null,null,null,null,null,null,"コミックイラスト科",2,90000,685000,340000,445000,1130000,180000,0,0,0,0,370000,"2年次に実施"]
[null,null,null,null,null,null,null,null,null,null,null,null,"キャラクターデザイン科",2,90000,685000,270000,445000,1130000,180000,0,0,0,0,370000,"2年次に実施"]
[null,null,null,null,null,null,null,null,null,null,null,null,"アニメーター科",2,90000,675000,340000,445000,1120000,180000,0,0,0,0,370000,"2年次に実施"]
[null,null,null,null,null,null,null,null,null,null,null,null,"マンガ・イラスト総合学科",3,90000,685000,340000,445000,1130000,180000,890000,180000,0,0,370000,"2年次に実施"]
[null,null,null,null,null,null,null,null,null,null,null,null,"３Dアニメゲームクリエイター科",3,90000,685000,270000,445000,1130000,180000,890000,180000,0,0,370000,"2年次に実施"]
[null,null,null,null,null,null,null,null,null,null,null,null,"ビジュアルデザイン研究科",1,90000,675000,340000,445000,0,0,0,0,0,0,0]
[null,null,null,null,null,null,null,null,null,null,null,null,"ビジュアルデザイン専攻科",4,90000,675000,340000,445000,1120000,180000,1120000,180000,1120000,180000,0]
[null,null,null,null,null,null,null,null,null,null,null,null,"美容学科",2,30000,535000,430000,405000,940000,400000,0,0,0,0,305000,"1年次に実施"]
[null,null,null,null,null,null,null,null,null,null,null,null,"ビューティプロデュース学科",2,30000,535000,370000,405000,940000,320000,0,0,0,0,320000,"1年次に実施"]
[null,null,null,null,null,null,null,null,null,null,null,null,"エステティックビューティ学科",2,30000,535000,370000,405000,940000,320000,0,0,0,0,250000,"1年次に実施"]
[null,null,null,null,null,null,null,null,null,null,null,null,"野外教育・アウトドアスポーツ学科",3,70000,700000,250000,470000,1170000,260000,1170000,290000,0,0,250000,"1年次に実施"]
[null,null,null,null,null,null,null,null,null,null,null,null,"自然ガイド・環境保全学科",3,70000,700000,260000,470000,1170000,290000,1170000,230000,0,0,250000,"1年次に実施"]
[null,null,null,null,null,null,null,null,null,null,null,null,"山岳プロ学科",3,70000,700000,250000,470000,1170000,270000,1170000,340000,0,0,250000,"1年次に実施"]
[null,null,null,null,null,null,null,null,null,null,null,null,"アウトドアプロインストラクター学科",2,70000,700000,260000,470000,1170000,280000,0,0,0,0,250000,"1年次に実施"]
[null,null,null,null,null,null,null,null,null,null,null,null,"伝統建築学科3年制　",3,100000,610000,530000,400000,1010000,270000,1010000,240000,0,0,0]
[null,null,null,null,null,null,null,null,null,null,null,null,"伝統建築学科4年制／伝統建築コース　",4,100000,610000,530000,400000,1010000,270000,1010000,270000,1010000,240000,0]
[null,null,null,null,null,null,null,null,null,null,null,null,"伝統建築学科4年制／京都芸術大学併修コース",4,100000,610000,530000,400000,1010000,270000,1010000,270000,1010000,240000,0]
[null,null,null,null,null,null,null,null,null,null,null,null,"建築専科",1,100000,610000,530000,400000,0,0,0,0,0,0,0]
[null,null,null,null,null,null,null,null,null,null,null,null,"こども保育幼稚園科 ",3,150000,435000,290000,255000,690000,330000,690000,300000,0,0,0]
[null,null,null,null,null,null,null,null,null,null,null,null,"医療秘書・事務科",2,150000,485000,215000,305000,790000,270000,0,0,0,0,165000,"1年次に実施"]
[null,null,null,null,null,null,null,null,null,null,null,null,"事務・ビジネス総合科",2,150000,485000,215000,305000,790000,250000,0,0,0,0,165000,"1年次に実施"]
[null,null,null,null,null,null,null,null,null,null,null,null,"ビジネスライセンス科 ",1,150000,485000,310000,305000,0,0,0,0,0,0,0]
[null,null,null,null,null,null,null,null,null,null,null,null,"公務員・法律行政科",2,150000,485000,215000,305000,790000,180000,0,0,0,0,165000,"1年次に実施"]
[null,null,null,null,null,null,null,null,null,null,null,null,"公務員専攻科",1,150000,485000,270000,305000,0,0,0,0,0,0,0]
[null,null,null,null,null,null,null,null,null,null,null,null,"情報システム科 ",2,150000,485000,215000,305000,790000,250000,0,0,0,0,165000,"1年次に実施"]
[null,null,null,null,null,null,null,null,null,null,null,null,"情報・ゲーム・デザイン科",3,150000,485000,235000,305000,790000,180000,790000,130000,0,0,0]
[null,null,null,null,null,null,null,null,null,null,null,null,"ファッションスタイリスト科　",2,90000,665000,270000,375000,1040000,191000,0,0,0,0,390000,"1年次に実施"]
[null,null,null,null,null,null,null,null,null,null,null,null,"ファッションビジネス科",2,90000,665000,235000,375000,1040000,185000,0,0,0,0,390000,"1年次に実施"]
[null,null,null,null,null,null,null,null,null,null,null,null,"ファッションプロデュース科",2,90000,665000,263000,375000,1040000,185000,0,0,0,0,390000,"1年次に実施"]
[null,null,null,null,null,null,null,null,null,null,null,null,"ニットデザイン科",2,90000,665000,303000,375000,1040000,235000,0,0,0,0,390000,"1年次に実施"]
[null,null,null,null,null,null,null,null,null,null,null,null,"ブライダル・コスチュームデザイン科",2,90000,665000,303000,375000,1040000,211000,0,0,0,0,390000,"1年次に実施"]
[null,null,null,null,null,null,null,null,null,null,null,null,"ファッションデザイン科",3,90000,665000,308000,375000,1040000,209000,1040000,181000,0,0,390000,"1年次に実施"]
[null,null,null,null,null,null,null,null,null,null,null,null,"ファッション専攻科",1,90000,665000,128000,375000,0,0,0,0,0,0,0]
[null,null,null,null,null,null,null,null,null,null,null,null,"こども保育学科 保育士コース",2,50000,560000,290000,330000,890000,267000,0,0,0,0,0]
[null,null,null,null,null,null,null,null,null,null,null,null,"こども保育学科 保育士・幼稚園教諭コース",2,50000,600000,422000,370000,970000,358000,0,0,0,0,0]
[null,null,null,null,null,null,null,null,null,null,null,null,"こども福祉教育学科",3,50000,570000,325000,340000,910000,305000,910000,284000,0,0,0]
[null,null,null,null,null,null,null,null,null,null,null,null,"こども未来教育学科",4,50000,570000,355000,340000,910000,320000,910000,226000,910000,336000,0]
[null,null,null,null,null,null,null,null,null,null,null,null,"福祉心理学科",4,50000,475000,228000,285000,760000,175000,760000,231000,760000,260000,0]
[null,null,null,null,null,null,null,null,null,null,null,null,"福祉健康サポート学科",2,50000,585000,300000,345000,930000,256000,0,0,0,0,0]
[null,null,null,null,null,null,null,null,null,null,null,null,"社会福祉学科",1,50000,580000,238000,350000,0,0,0,0,0,0,0]
[null,null,null,null,null,null,null,null,null,null,null,null,"医療福祉マネジメント学科",2,50000,515000,174000,285000,800000,235000,0,0,0,0,0]
[null,null,null,null,null,null,null,null,null,null,null,null,"建築士学科",2,100000,695000,210000,415000,1110000,180000,0,0,0,0,250000,"1年次に実施"]
[null,null,null,null,null,null,null,null,null,null,null,null,"建築デザイン科",2,100000,695000,210000,415000,1110000,190000,0,0,0,0,250000,"1年次に実施"]
[null,null,null,null,null,null,null,null,null,null,null,null,"インテリアデザイン科",2,100000,695000,260000,415000,1110000,210000,0,0,0,0,250000,"1年次に実施"]
[null,null,null,null,null,null,null,null,null,null,null,null,"建築大工科",2,100000,695000,250000,415000,1110000,250000,0,0,0,0,250000,"1年次に実施"]
[null,null,null,null,null,null,null,null,null,null,null,null,"測量建設科",2,100000,720000,190000,440000,1160000,140000,0,0,0,0,250000,"1年次に実施"]
[null,null,null,null,null,null,null,null,null,null,null,null,"電気電子工学科",2,100000,715000,200000,435000,1150000,160000,0,0,0,0,250000,"1年次に実施"]
[null,null,null,null,null,null,null,null,null,null,null,null,"一級建築士専攻科",2,50000,830000,110000,620000,460000,100000,0,0,0,0,0]
[null,null,null,null,null,null,null,null,null,null,null,null,"建築士専攻科",1,50000,570000,110000,360000,0,0,0,0,0,0,0]
[null,null,null,null,null,null,null,null,null,null,null,null,"臨床工学技士科",3,70000,715000,284291,435000,1150000,276791,1150000,273879,0,0,122690,"2年次に実施"]
[null,null,null,null,null,null,null,null,null,null,null,null,"看護学科",3,70000,680000,345287,400000,1080000,336177,1080000,378067,0,0,122690,"2年次に実施"]
[null,null,null,null,null,null,null,null,null,null,null,null,"鍼灸学科昼間部",3,70000,625000,183322,425000,1050000,173097,1050000,170765,0,0,122690,"2年次に実施"]
[null,null,null,null,null,null,null,null,null,null,null,null,"鍼灸学科夜間部",3,70000,575000,190329,375000,950000,106431,950000,145765,0,0,122690,"2年次に実施"]
[null,null,null,null,null,null,null,null,null,null,null,null,"鍼灸学科夜間部Wスクール",3,0,287500,190329,187500,475000,106431,475000,145765,0,0,0]
[null,null,null,null,null,null,null,null,null,null,null,null,"診療情報管理士学科",3,70000,575000,298418,315000,890000,262627,890000,272447,0,0,122690,"2年次に実施"]
[null,null,null,null,null,null,null,null,null,null,null,null,"医療秘書・医薬品アドバイザー学科",2,70000,575000,320360,315000,890000,236411,0,0,0,0,122690,"2年次に実施"]
[null,null,null,null,null,null,null,null,null,null,null,null,"アスレティックトレーナー科／プロトレーナーコース",3,70000,560000,350000,380000,940000,350000,940000,350000,0,0,280000,"1年次に実施"]
[null,null,null,null,null,null,null,null,null,null,null,null,"アスレティックトレーナー科／鍼灸メディカルトレーナーコース",3,70000,560000,350000,380000,940000,350000,940000,350000,0,0,280000,"1年次に実施"]
[null,null,null,null,null,null,null,null,null,null,null,null,"スポーツトレーナー科",2,70000,660000,350000,480000,1140000,350000,0,0,0,0,280000,"1年次に実施"]
[null,null,null,null,null,null,null,null,null,null,null,null,"スポーツビジネス科",2,70000,610000,350000,430000,1040000,350000,0,0,0,0,280000,"1年次に実施"]
[null,null,null,null,null,null,null,null,null,null,null,null,"スポーツ用品メンテナンス科",2,70000,610000,350000,430000,1040000,350000,0,0,0,0,280000,"1年次に実施"]
[null,null,null,null,null,null,null,null,null,null,null,null,"こどもインストラクター科",2,70000,660000,350000,480000,1140000,350000,0,0,0,0,280000,"1年次に実施"]
[null,null,null,null,null,null,null,null,null,null,null,null,"こどもインストラクター科（大学併修）",2,70000,560000,350000,380000,940000,350000,0,0,0,0,280000,"1年次に実施"]
[null,null,null,null,null,null,null,null,null,null,null,null,"バスケットボール専攻科",3,70000,560000,350000,380000,940000,350000,940000,350000,0,0,280000,"1年次に実施"]
[null,null,null,null,null,null,null,null,null,null,null,null,"バスケットボール総合学科",2,70000,660000,350000,480000,1140000,350000,0,0,0,0,280000,"1年次に実施"]
[null,null,null,null,null,null,null,null,null,null,null,null,"スポーツ研究科",1,70000,435000,200000,255000,0,0,0,0,0,0,0]
[null,null,null,null,null,null,null,null,null,null,null,null,"ヴォーカル科",2,90000,795000,380000,415000,1210000,380000,0,0,0,0,105000,"1年次に実施"]
[null,null,null,null,null,null,null,null,null,null,null,null,"ミュージシャン科",2,90000,795000,380000,415000,1210000,380000,0,0,0,0,105000,"1年次に実施"]
[null,null,null,null,null,null,null,null,null,null,null,null,"ダンス科",2,90000,795000,380000,415000,1210000,380000,0,0,0,0,105000,"1年次に実施"]
[null,null,null,null,null,null,null,null,null,null,null,null,"K-POPエンタテイメント科（K-POPダンス＆ヴォーカルコース）",2,90000,795000,380000,415000,1210000,380000,0,0,0,0,105000,"1年次に実施"]
[null,null,null,null,null,null,null,null,null,null,null,null,"K-POPエンタテイメント科（K-POPビジネスコース）",2,90000,710000,380000,360000,1070000,380000,0,0,0,0,105000,"1年次に実施"]
[null,null,null,null,null,null,null,null,null,null,null,null,"音楽ビジネス科",2,90000,710000,380000,360000,1070000,380000,0,0,0,0,105000,"1年次に実施"]
[null,null,null,null,null,null,null,null,null,null,null,null,"音響・照明科",2,90000,710000,380000,360000,1070000,380000,0,0,0,0,105000,"1年次に実施"]
[null,null,null,null,null,null,null,null,null,null,null,null,"サウンドクリエイター科",2,90000,710000,380000,360000,1070000,380000,0,0,0,0,105000,"1年次に実施"]
[null,null,null,null,null,null,null,null,null,null,null,null,"研究科",1,90000,795000,380000,415000,0,0,0,0,0,0,105000,"1年次に実施"]
[null,null,null,null,null,null,null,null,null,null,null,null,"愛玩動物看護師・リハビリ・トリマー学科",4,80000,640000,270000,590000,1230000,200000,1230000,210000,1230000,110000,380000,"4年次に実施"]
[null,null,null,null,null,null,null,null,null,null,null,null,"動物看護師・リハビリ介護学科",3,80000,640000,270000,590000,1230000,200000,1230000,210000,0,0,380000,"3年次に実施"]
[null,null,null,null,null,null,null,null,null,null,null,null,"動物看護師・美容学科",3,80000,640000,270000,590000,1230000,200000,1230000,160000,0,0,380000,"3年次に実施"]
[null,null,null,null,null,null,null,null,null,null,null,null,"動物飼育管理学科",3,80000,650000,260000,600000,1250000,230000,1250000,190000,0,0,380000,"3年次に実施"]
[null,null,null,null,null,null,null,null,null,null,null,null,"ペット栄養・メディカルトリマー学科",2,80000,650000,280000,600000,1250000,250000,0,0,0,0,380000,"2年次に実施"]
[null,null,null,null,null,null,null,null,null,null,null,null,"ペット美容学科",2,80000,640000,380000,590000,1230000,170000,0,0,0,0,380000,"2年次に実施"]
[null,null,null,null,null,null,null,null,null,null,null,null,"ドッグトレーニング学科",2,80000,660000,260000,610000,1270000,210000,0,0,0,0,380000,"2年次に実施"]
[null,null,null,null,null,null,null,null,null,null,null,null,"ペットケア・ビジネス学科",2,80000,625000,260000,575000,1200000,190000,0,0,0,0,380000,"2年次に実施"]
[null,null,null,null,null,null,null,null,null,null,null,null,"ネイチャーアクアリウム学科",2,80000,700000,340000,650000,1350000,170000,0,0,0,0,380000,"2年次に実施"]
[null,null,null,null,null,null,null,null,null,null,null,null,"海洋生物・ドルフィン学科",2,80000,700000,330000,650000,1350000,170000,0,0,0,0,380000,"2年次に実施"]
[null,null,null,null,null,null,null,null,null,null,null,null,"サッカー専攻科",3,100000,750000,589000,470000,1220000,489000,1220000,489000,0,0,0]
[null,null,null,null,null,null,null,null,null,null,null,null,"女子サッカー専攻科",2,100000,535000,589000,355000,890000,489000,0,0,0,0,0]
[null,null,null,null,null,null,null,null,null,null,null,null,"マネージャー・トレーナー科",2,100000,750000,539000,470000,1220000,589000,0,0,0,0,0]
[null,null,null,null,null,null,null,null,null,null,null,null,"サッカートレーナー専攻科",3,100000,535000,489000,355000,890000,489000,890000,489000,0,0,0]
[null,null,null,null,null,null,null,null,null,null,null,null,"コーチ・審判専攻科",2,100000,750000,589000,470000,1220000,589000,0,0,0,0,0]
[null,null,null,null,null,null,null,null,null,null,null,null,"サッカーコーチ研究科",4,100000,750000,559000,470000,1220000,589000,580000,349000,580000,349000,0]
[null,null,null,null,null,null,null,null,null,null,null,null,"サッカービジネス科",2,100000,750000,539000,470000,1220000,589000,0,0,0,0,0]
[null,null,null,null,null,null,null,null,null,null,null,null,"国際ホテル大学併修科",4,70000,645000,290000,415000,1060000,300000,860000,300000,860000,300000,0]
[null,null,null,null,null,null,null,null,null,null,null,null,"ホテル・ウェディング科",2,70000,645000,290000,415000,1060000,300000,0,0,0,0,360000,"1年次に実施"]
[null,null,null,null,null,null,null,null,null,null,null,null,"葬祭ディレクター科",2,70000,645000,290000,415000,1060000,280000,0,0,0,0,360000,"1年次に実施"]
[null,null,null,null,null,null,null,null,null,null,null,null,"１級自動車整備科(4年制)",4,100000,760000,309000,475000,1235000,245000,780000,184000,780000,204000,280000,"2年次に実施"]
[null,null,null,null,null,null,null,null,null,null,null,null,"車体整備科（3年制）",3,100000,760000,303000,475000,1235000,239000,780000,346000,0,0,280000,"2年次に実施"]
[null,null,null,null,null,null,null,null,null,null,null,null,"自動車整備科",2,100000,760000,305000,475000,1235000,268000,0,0,0,0,280000,"2年次に実施"]
[null,null,null,null,null,null,null,null,null,null,null,null,"モータースポーツ科",2,100000,785000,469000,500000,1285000,317000,0,0,0,0,280000,"2年次に実施"]
[null,null,null,null,null,null,null,null,null,null,null,null,"モータースポーツ２級整備士科(3年制)",3,100000,785000,467000,500000,1285000,289000,780000,255000,0,0,280000,"2年次に実施"]
[null,null,null,null,null,null,null,null,null,null,null,null,"国際英語コミュニケーション科",2,70000,610000,250000,380000,990000,250000,0,0,0,0,330000,"1年次に実施"]
[null,null,null,null,null,null,null,null,null,null,null,null,"上級英語科",2,70000,610000,250000,380000,990000,250000,0,0,0,0,330000,"1年次に実施"]
[null,null,null,null,null,null,null,null,null,null,null,null,"アジア言語科",2,70000,610000,250000,380000,990000,200000,0,0,0,0,330000,"1年次に実施"]
[null,null,null,null,null,null,null,null,null,null,null,null,"通訳ガイド科",2,70000,610000,330000,380000,990000,250000,0,0,0,0,330000,"1年次に実施"]
[null,null,null,null,null,null,null,null,null,null,null,null,"トラベル観光科",2,70000,610000,330000,380000,990000,250000,0,0,0,0,330000,"1年次に実施"]
[null,null,null,null,null,null,null,null,null,null,null,null,"国際エアライン科",2,70000,610000,250000,380000,990000,250000,0,0,0,0,330000,"1年次に実施"]
[null,null,null,null,null,null,null,null,null,null,null,null,"大学編入科",2,70000,610000,250000,380000,990000,260000,0,0,0,0,330000,"1年次に実施"]
[null,null,null,null,null,null,null,null,null,null,null,null,"国際観光大学併修科",4,70000,610000,330000,380000,990000,260000,720000,260000,720000,260000,330000,"1年次に実施"]
[null,null,null,null,null,null,null,null,null,null,null,null,"専攻科",1,70000,610000,330000,380000,0,0,0,0,0,0,0]
[null,null,null,null,null,null,null,null,null,null,null,null,"シェフ学科",2,50000,605000,458000,425000,1030000,397000,0,0,0,0,330000,"2年次に実施"]
[null,null,null,null,null,null,null,null,null,null,null,null,"健康給食学科",2,50000,605000,460000,425000,1030000,397000,0,0,0,0,330000,"2年次に実施"]
[null,null,null,null,null,null,null,null,null,null,null,null,"カフェ学科",2,50000,605000,460000,425000,1030000,420000,0,0,0,0,330000,"2年次に実施"]
[null,null,null,null,null,null,null,null,null,null,null,null,"調理師学科",1,50000,605000,500000,425000,0,0,0,0,0,0,0]
[null,null,null,null,null,null,null,null,null,null,null,null,"栄養士学科",2,50000,615000,402000,435000,1050000,376000,0,0,0,0,330000,"2年次に実施"]
[null,null,null,null,null,null,null,null,null,null,null,null,"パティシエ学科",2,50000,605000,414000,425000,1030000,450000,0,0,0,0,330000,"2年次に実施"]
[null,null,null,null,null,null,null,null,null,null,null,null,"声優アクターズ科",2,70000,690000,350000,410000,1100000,310000,0,0,0,0,360000,"2年次に実施"]
[null,null,null,null,null,null,null,null,null,null,null,null,"テレビ映像・動画制作科",2,70000,710000,350000,410000,1120000,300000,0,0,0,0,360000,"2年次に実施"]
[null,null,null,null,null,null,null,null,null,null,null,null,"映画プロデュース科",4,70000,710000,350000,410000,1120000,300000,1120000,300000,1120000,300000,360000,"4年次に実施"]
[null,null,null,null,null,null,null,null,null,null,null,null,"映像・演技研究科",1,70000,280000,200000,210000,0,0,0,0,0,0,0]
[null,null,null,null,null,null,null,null,null,null,null,null,"スマート農業テクノロジー科",2,40000,740000,180000,460000,1200000,120000,0,0,0,0,180000,"1年次に実施"]
[null,null,null,null,null,null,null,null,null,null,null,null,"食料農業経営科　栽培コース",2,40000,740000,190000,460000,1200000,120000,0,0,0,0,180000,"1年次に実施"]
[null,null,null,null,null,null,null,null,null,null,null,null,"食料農業経営科　フードビジネスコース",2,40000,740000,190000,460000,1200000,120000,0,0,0,0,180000,"1年次に実施"]
[null,null,null,null,null,null,null,null,null,null,null,null,"バイオテクノロジー科　醸造・食品技術コース",2,40000,740000,160000,460000,1200000,110000,0,0,0,0,180000,"1年次に実施"]
[null,null,null,null,null,null,null,null,null,null,null,null,"バイオテクノロジー科　環境エンジニアコース",2,40000,740000,150000,460000,1200000,100000,0,0,0,0,180000,"1年次に実施"]
[null,null,null,null,null,null,null,null,null,null,null,null,"フラワーデザイン科　フラワーコーディネートコース",2,40000,740000,290000,460000,1200000,330000,0,0,0,0,180000,"1年次に実施"]
[null,null,null,null,null,null,null,null,null,null,null,null,"フラワーデザイン科　植物・園芸デザインコース",2,40000,740000,260000,460000,1200000,230000,0,0,0,0,180000,"1年次に実施"]
[null,null,null,null,null,null,null,null,null,null,null,null,"大学併修農業総合科",4,40000,740000,210000,460000,1200000,100000,940000,40000,940000,60000,180000,"1年次に実施"]
[null,null,null,null,null,null,null,null,null,null,null,null,"大学併修バイオ総合科",4,40000,740000,170000,460000,1200000,70000,940000,40000,940000,60000,180000,"1年次に実施"]
[null,null,null,null,null,null,null,null,null,null,null,null,"大学併修自然環境総合科",4,40000,740000,260000,460000,1200000,100000,940000,40000,940000,60000,180000,"1年次に実施"]
[null,null,null,null,null,null,null,null,null,null,null,null,"法学部併修学科　中央大学併修・司法コース",4,70000,440000,195000,250000,690000,180000,690000,180000,690000,190000,240000,"1年次に実施"]
[null,null,null,null,null,null,null,null,null,null,null,null,"法学部併修学科　中央大学併修・公務員コース",4,70000,440000,195000,250000,690000,180000,690000,180000,690000,190000,240000,"1年次に実施"]
[null,null,null,null,null,null,null,null,null,null,null,null,"法律公務員学科　法律コース",4,70000,490000,175000,300000,790000,180000,790000,180000,790000,190000,240000,"1年次に実施"]
[null,null,null,null,null,null,null,null,null,null,null,null,"法律公務員学科　大卒行政コース",4,70000,490000,175000,300000,790000,180000,790000,180000,790000,190000,240000,"1年次に実施"]
[null,null,null,null,null,null,null,null,null,null,null,null,"法律公務員学科　大卒警察・消防コース",4,70000,490000,175000,300000,790000,180000,790000,180000,790000,190000,240000,"1年次に実施"]
[null,null,null,null,null,null,null,null,null,null,null,null,"法律公務員学科　初級公務員コース",2,70000,490000,180000,300000,790000,180000,0,0,0,0,240000,"1年次に実施"]
[null,null,null,null,null,null,null,null,null,null,null,null,"看護学科 ",3,70000,575000,350000,405000,980000,300000,980000,350000,0,0,150000,"2年次に実施"]
[null,null,null,null,null,null,null,null,null,null,null,null,"歯科衛生士学科",3,70000,490000,390000,340000,830000,300000,830000,350000,0,0,150000,"2年次に実施"]
[null,null,null,null,null,null,null,null,null,null,null,null,"医療事務学科",2,70000,455000,350000,325000,780000,250000,0,0,0,0,150000,"2年次に実施"]

{"sheet":"シミュレーション","index":1,"n_rows":55,"n_cols":10,"rows_kept":55,"cut":false,"hidden":false,"merged":[[6,0,18,0],[19,0,30,0],[31,0,42,0],[43,0,54,0]]}
["学費分納シミュレーション"]
[null,"※下記金額とは別に事務手数料として15,000円(税別/年数)をお納めいただきます。"]
[null,"※奨学金の初回貸与は申し込み手続き上、3ヶ月分(4月～6月)を6月貸与、支払いでシミュレーションしております。"]
[]
[null,null,null,null,null,"納入学費の総合計",null,{"$f":"情報入力!C25","v":0}]
[null,null,null,"月額奨学金支払額","入学時特別増額支払・\nボーナス等自己負担額","学費の支払合計","学費の免除","納入残高",null,"ボーナス等自己負担額"]
["１年次",null,"入学前",null,{"$f":"IFERROR(IF(G7=\"\",IF(情報入力!$G41=\"分納\",情報入力!$C6+情報入力!$G43+情報入力!$G45,情報入力!$C6+情報入力!$C7),IF(情報入力!$G41=\"分納\",IF((情報入力!$C6-G7)>=0,情報入力!$C6+情報入力!$G43+情報入力!$G45-G7,情報入力!$G43+情報入力!$G45),情報入力!$C6+情報入力!$C7-G7)),\"\")","v":""},{"$f":"SUM(D7:E7)","v":0},null,{"$f":"H5-F7-G7","v":0},{"$f":"IF(H7<=0,\"完納\",\"\")","v":"完納"},{"$f":"IFERROR(IF(L7=\"\",IF(情報入力!$G41=\"分納\",情報入力!$C6+情報入力!$G43+情報入力!$G45,情報入力!$C6+情報入力!$C7),IF(情報入力!$G41=\"分納\",IF((情報入力!$C6-L7)>=0,情報入力!$C6+情報入力!$G43+情報入力!$G45-L7,情報入力!$G43+情報入力!$G45),情報入力!$C6+情報入力!$C7-L7)),\"\")","v":""}]
[null,"2021年","4月",null,{"$f":"情報入力!$G$56+IF(情報入力!$E$47=$C8,情報入力!$G$47,0)","v":0},0,null,{"$f":"H7-F8-G8","v":0},{"$f":"IF(H8<=0,\"完納\",\"\")","v":"完納"},{"$f":"情報入力!$G$56+IF(情報入力!$E$47=$C8,情報入力!$G$47,0)","v":0}]
[null,"2021年","5月",null,{"$f":"情報入力!$G$56+IF(情報入力!$E$47=$C9,情報入力!$G$47,0)+IF(D9=\"\",0,情報入力!$G37)","v":0},0,null,{"$f":"H8-F9-G9","v":0},"完納",{"$f":"情報入力!$G$56+IF(情報入力!$E$47=$C9,情報入力!$G$47,0)+IF(I9=\"\",0,情報入力!$G37)","v":0}]
[null,"2021年","6月",null,{"$f":"情報入力!$G$56+IF(情報入力!$E$47=$C10,情報入力!$G$47,0)+IF(D9=\"\",IF(D10=\"\",0,情報入力!$G37),0)","v":0},{"$f":"IF(SUM(D10:E10)<=H9,SUM(D10:E10),H9)","v":0},null,0,"完納",{"$f":"情報入力!$G$56+IF(情報入力!$E$47=$C10,情報入力!$G$47,0)+IF(I9=\"\",IF(I10=\"\",0,情報入力!$G37),0)","v":0}]
[null,"2021年","7月",{"$f":"情報入力!G$35","v":0},{"$f":"情報入力!$G$56+IF(情報入力!$E$47=$C11,情報入力!$G$47,0)+IF(D9=\"\",IF(D10=\"\",情報入力!$G37,0),0)","v":0},{"$f":"IF(SUM(D11:E11)<=H10,SUM(D11:E11),H10)","v":0},null,0,"完納",{"$f":"情報入力!$G$56+IF(情報入力!$E$47=$C11,情報入力!$G$47,0)+IF(I9=\"\",IF(I10=\"\",情報入力!$G37,0),0)","v":0}]
[null,"2021年","8月",{"$f":"情報入力!G$35","v":0},{"$f":"情報入力!$G$56+IF(情報入力!$E$47=$C12,情報入力!$G$47,0)","v":0},0,null,0,"完納",{"$f":"情報入力!$G$56+IF(情報入力!$E$47=$C12,情報入力!$G$47,0)","v":0}]
[null,"2021年","9月",{"$f":"情報入力!G$35","v":0},{"$f":"情報入力!$G$56+IF(情報入力!$E$47=$C13,情報入力!$G$47,0)","v":0},0,null,0,"完納",{"$f":"情報入力!$G$56+IF(情報入力!$E$47=$C13,情報入力!$G$47,0)","v":0}]
[null,"2021年","10月",{"$f":"情報入力!G$35","v":0},{"$f":"情報入力!$G$56+IF(情報入力!$E$48=$C14,情報入力!$G$48,0)","v":0},0,null,0,"完納",{"$f":"情報入力!$G$56+IF(情報入力!$E$48=$C14,情報入力!$G$48,0)","v":0}]
[null,"2021年","11月",{"$f":"情報入力!G$35","v":0},{"$f":"情報入力!$G$56+IF(情報入力!$E$48=$C15,情報入力!$G$48,0)","v":0},0,null,0,"完納",{"$f":"情報入力!$G$56+IF(情報入力!$E$48=$C15,情報入力!$G$48,0)","v":0}]
[null,"2021年","12月",{"$f":"情報入力!G$35","v":0},{"$f":"情報入力!$G$56+IF(情報入力!$E$48=$C16,情報入力!$G$48,0)","v":0},0,null,0,"完納",{"$f":"情報入力!$G$56+IF(情報入力!$E$48=$C16,情報入力!$G$48,0)","v":0}]
[null,"2022年","1月",{"$f":"情報入力!G$35","v":0},{"$f":"情報入力!$G$56+IF(情報入力!$E$48=$C17,情報入力!$G$48,0)","v":0},0,null,0,"完納",{"$f":"情報入力!$G$56+IF(情報入力!$E$48=$C17,情報入力!$G$48,0)","v":0}]
[null,"2022年","2月",{"$f":"情報入力!G$35","v":0},{"$f":"情報入力!$G$56+IF(情報入力!$E$48=$C18,情報入力!$G$48,0)","v":0},0,null,0,"完納",{"$f":"情報入力!$G$56+IF(情報入力!$E$48=$C18,情報入力!$G$48,0)","v":0}]
[null,"2022年","3月",{"$f":"情報入力!G$35","v":0},{"$f":"情報入力!$G$56+IF(情報入力!$E$48=$C19,情報入力!$G$48,0)","v":0},0,null,0,"完納",{"$f":"情報入力!$G$56+IF(情報入力!$E$48=$C19,情報入力!$G$48,0)","v":0}]
["２年次","2022年","4月",{"$f":"情報入力!G$35","v":0},{"$f":"情報入力!$G$56+IF(情報入力!$E$49=$C20,情報入力!$G$49,0)","v":0},0,null,0,"完納",{"$f":"情報入力!$G$56+IF(情報入力!$E$49=$C20,情報入力!$G$49,0)","v":0}]
[null,"2022年","5月",{"$f":"情報入力!G$35","v":0},{"$f":"情報入力!$G$56+IF(情報入力!$E$49=$C21,情報入力!$G$49,0)","v":0},0,null,0,"完納",{"$f":"情報入力!$G$56+IF(情報入力!$E$49=$C21,情報入力!$G$49,0)","v":0}]
[null,"2022年","6月",{"$f":"情報入力!G$35","v":0},{"$f":"情報入力!$G$56+IF(情報入力!$E$49=$C22,情報入力!$G$49,0)","v":0},0,null,0,"完納",{"$f":"情報入力!$G$56+IF(情報入力!$E$49=$C22,情報入力!$G$49,0)","v":0}]
[null,"2022年","7月",{"$f":"情報入力!G$35","v":0},{"$f":"情報入力!$G$56+IF(情報入力!$E$49=$C23,情報入力!$G$49,0)","v":0},0,null,0,"完納",{"$f":"情報入力!$G$56+IF(情報入力!$E$49=$C23,情報入力!$G$49,0)","v":0}]
[null,"2022年","8月",{"$f":"情報入力!G$35","v":0},{"$f":"情報入力!$G$56+IF(情報入力!$E$49=$C24,情報入力!$G$49,0)","v":0},0,null,0,"完納",{"$f":"情報入力!$G$56+IF(情報入力!$E$49=$C24,情報入力!$G$49,0)","v":0}]
[null,"2022年","9月",{"$f":"情報入力!G$35","v":0},{"$f":"情報入力!$G$56+IF(情報入力!$E$49=$C25,情報入力!$G$49,0)","v":0},0,null,0,"完納",{"$f":"情報入力!$G$56+IF(情報入力!$E$49=$C25,情報入力!$G$49,0)","v":0}]
[null,"2022年","10月",{"$f":"情報入力!G$35","v":0},{"$f":"情報入力!$G$56+IF(情報入力!$E$50=$C26,情報入力!$G$50,0)","v":0},0,null,0,"完納",{"$f":"情報入力!$G$56+IF(情報入力!$E$50=$C26,情報入力!$G$50,0)","v":0}]
[null,"2022年","11月",{"$f":"情報入力!G$35","v":0},{"$f":"情報入力!$G$56+IF(情報入力!$E$50=$C27,情報入力!$G$50,0)","v":0},0,null,0,"完納",{"$f":"情報入力!$G$56+IF(情報入力!$E$50=$C27,情報入力!$G$50,0)","v":0}]
[null,"2022年","12月",{"$f":"情報入力!G$35","v":0},{"$f":"情報入力!$G$56+IF(情報入力!$E$50=$C28,情報入力!$G$50,0)","v":0},0,null,0,"完納",{"$f":"情報入力!$G$56+IF(情報入力!$E$50=$C28,情報入力!$G$50,0)","v":0}]
[null,"2023年","1月",{"$f":"情報入力!G$35","v":0},{"$f":"情報入力!$G$56+IF(情報入力!$E$50=$C29,情報入力!$G$50,0)","v":0},0,null,0,"完納",{"$f":"情報入力!$G$56+IF(情報入力!$E$50=$C29,情報入力!$G$50,0)","v":0}]
[null,"2023年","2月",{"$f":"情報入力!G$35","v":0},{"$f":"情報入力!$G$56+IF(情報入力!$E$50=$C30,情報入力!$G$50,0)","v":0},0,null,0,"完納",{"$f":"情報入力!$G$56+IF(情報入力!$E$50=$C30,情報入力!$G$50,0)","v":0}]
[null,"2023年","3月",{"$f":"情報入力!G$35","v":0},{"$f":"情報入力!$G$56+IF(情報入力!$E$50=$C31,情報入力!$G$50,0)","v":0},0,null,0,"完納",{"$f":"情報入力!$G$56+IF(情報入力!$E$50=$C31,情報入力!$G$50,0)","v":0}]
["３年次","2023年","4月",{"$f":"情報入力!G$35","v":0},{"$f":"情報入力!$G$56+IF(情報入力!$E$51=$C32,情報入力!$G$51,0)","v":0},0,null,0,"完納",{"$f":"情報入力!$G$56+IF(情報入力!$E$51=$C32,情報入力!$G$51,0)","v":0}]
[null,"2023年","5月",{"$f":"情報入力!G$35","v":0},{"$f":"情報入力!$G$56+IF(情報入力!$E$51=$C33,情報入力!$G$51,0)","v":0},0,null,0,"完納",{"$f":"情報入力!$G$56+IF(情報入力!$E$51=$C33,情報入力!$G$51,0)","v":0}]
[null,"2023年","6月",{"$f":"情報入力!G$35","v":0},{"$f":"情報入力!$G$56+IF(情報入力!$E$51=$C34,情報入力!$G$51,0)","v":0},0,null,0,"完納",{"$f":"情報入力!$G$56+IF(情報入力!$E$51=$C34,情報入力!$G$51,0)","v":0}]
[null,"2023年","7月",{"$f":"情報入力!G$35","v":0},{"$f":"情報入力!$G$56+IF(情報入力!$E$51=$C35,情報入力!$G$51,0)","v":0},0,null,0,"完納",{"$f":"情報入力!$G$56+IF(情報入力!$E$51=$C35,情報入力!$G$51,0)","v":0}]
[null,"2023年","8月",{"$f":"情報入力!G$35","v":0},{"$f":"情報入力!$G$56+IF(情報入力!$E$51=$C36,情報入力!$G$51,0)","v":0},0,null,0,"完納",{"$f":"情報入力!$G$56+IF(情報入力!$E$51=$C36,情報入力!$G$51,0)","v":0}]
[null,"2023年","9月",{"$f":"情報入力!G$35","v":0},{"$f":"情報入力!$G$56+IF(情報入力!$E$51=$C37,情報入力!$G$51,0)","v":0},0,null,0,"完納",{"$f":"情報入力!$G$56+IF(情報入力!$E$51=$C37,情報入力!$G$51,0)","v":0}]
[null,"2023年","10月",{"$f":"情報入力!G$35","v":0},{"$f":"情報入力!$G$56+IF(情報入力!$E$52=$C38,情報入力!$G$52,0)","v":0},0,null,0,"完納",{"$f":"情報入力!$G$56+IF(情報入力!$E$52=$C38,情報入力!$G$52,0)","v":0}]
[null,"2023年","11月",{"$f":"情報入力!G$35","v":0},{"$f":"情報入力!$G$56+IF(情報入力!$E$52=$C39,情報入力!$G$52,0)","v":0},0,null,0,"完納",{"$f":"情報入力!$G$56+IF(情報入力!$E$52=$C39,情報入力!$G$52,0)","v":0}]
[null,"2023年","12月",{"$f":"情報入力!G$35","v":0},{"$f":"情報入力!$G$56+IF(情報入力!$E$52=$C40,情報入力!$G$52,0)","v":0},0,null,0,"完納",{"$f":"情報入力!$G$56+IF(情報入力!$E$52=$C40,情報入力!$G$52,0)","v":0}]
[null,"2024年","1月",{"$f":"情報入力!G$35","v":0},{"$f":"情報入力!$G$56+IF(情報入力!$E$52=$C41,情報入力!$G$52,0)","v":0},{"$f":"IF(SUM(D41:E41)<=H40,SUM(D41:E41),H40)","v":0},null,0,{"$f":"IF(H41<=0,\"完納\",\"\")","v":"完納"},{"$f":"情報入力!$G$56+IF(情報入力!$E$52=$C41,情報入力!$G$52,0)","v":0}]
[null,"2024年","2月",{"$f":"情報入力!G$35","v":0},{"$f":"情報入力!$G$56+IF(情報入力!$E$52=$C42,情報入力!$G$52,0)","v":0},0,null,0,"完納",{"$f":"情報入力!$G$56+IF(情報入力!$E$52=$C42,情報入力!$G$52,0)","v":0}]
[null,"2024年","3月",{"$f":"情報入力!G$35","v":0},{"$f":"情報入力!$G$56+IF(情報入力!$E$52=$C43,情報入力!$G$52,0)","v":0},{"$f":"IF(SUM(D43:E43)<=H42,SUM(D43:E43),H42)","v":0},null,{"$f":"H42-F43-G43","v":0},"完納",{"$f":"情報入力!$G$56+IF(情報入力!$E$52=$C43,情報入力!$G$52,0)","v":0}]
["４年次","2024年","4月",{"$f":"情報入力!G$35","v":0},{"$f":"情報入力!$G$56+IF(情報入力!$E$53=$C44,情報入力!$G$53,0)","v":0},0,null,0,"完納",{"$f":"情報入力!$G$56+IF(情報入力!$E$53=$C44,情報入力!$G$53,0)","v":0}]
[null,"2024年","5月",{"$f":"情報入力!G$35","v":0},{"$f":"情報入力!$G$56+IF(情報入力!$E$53=$C45,情報入力!$G$53,0)","v":0},0,null,0,"完納",{"$f":"情報入力!$G$56+IF(情報入力!$E$53=$C45,情報入力!$G$53,0)","v":0}]
[null,"2024年","6月",{"$f":"情報入力!G$35","v":0},{"$f":"情報入力!$G$56+IF(情報入力!$E$53=$C46,情報入力!$G$53,0)","v":0},0,null,0,"完納",{"$f":"情報入力!$G$56+IF(情報入力!$E$53=$C46,情報入力!$G$53,0)","v":0}]
[null,"2024年","7月",{"$f":"情報入力!G$35","v":0},{"$f":"情報入力!$G$56+IF(情報入力!$E$53=$C47,情報入力!$G$53,0)","v":0},0,null,0,"完納",{"$f":"情報入力!$G$56+IF(情報入力!$E$53=$C47,情報入力!$G$53,0)","v":0}]
[null,"2024年","8月",{"$f":"情報入力!G$35","v":0},{"$f":"情報入力!$G$56+IF(情報入力!$E$53=$C48,情報入力!$G$53,0)","v":0},0,null,0,"完納",{"$f":"情報入力!$G$56+IF(情報入力!$E$53=$C48,情報入力!$G$53,0)","v":0}]
[null,"2024年","9月",{"$f":"情報入力!G$35","v":0},{"$f":"情報入力!$G$56+IF(情報入力!$E$53=$C49,情報入力!$G$53,0)","v":0},0,null,0,"完納",{"$f":"情報入力!$G$56+IF(情報入力!$E$53=$C49,情報入力!$G$53,0)","v":0}]
[null,"2024年","10月",{"$f":"情報入力!G$35","v":0},{"$f":"情報入力!$G$56+IF(情報入力!$E$53=$C50,情報入力!$G$53,0)","v":0},0,null,0,"完納",{"$f":"情報入力!$G$56+IF(情報入力!$E$53=$C50,情報入力!$G$53,0)","v":0}]
[null,"2024年","11月",{"$f":"情報入力!G$35","v":0},{"$f":"情報入力!$G$56+IF(情報入力!$E$53=$C51,情報入力!$G$53,0)","v":0},0,null,0,"完納",{"$f":"情報入力!$G$56+IF(情報入力!$E$53=$C51,情報入力!$G$53,0)","v":0}]
[null,"2024年","12月",{"$f":"情報入力!G$35","v":0},{"$f":"情報入力!$G$56+IF(情報入力!$E$53=$C52,情報入力!$G$53,0)","v":0},0,null,0,"完納",{"$f":"情報入力!$G$56+IF(情報入力!$E$53=$C52,情報入力!$G$53,0)","v":0}]
[null,"2025年","1月",{"$f":"情報入力!G$35","v":0},{"$f":"情報入力!$G$56+IF(情報入力!$E$53=$C53,情報入力!$G$53,0)","v":0},0,null,0,"完納",{"$f":"情報入力!$G$56+IF(情報入力!$E$53=$C53,情報入力!$G$53,0)","v":0}]
[null,"2025年","2月",{"$f":"情報入力!G$35","v":0},{"$f":"情報入力!$G$56+IF(情報入力!$E$53=$C54,情報入力!$G$53,0)","v":0},0,null,0,"完納",{"$f":"情報入力!$G$56+IF(情報入力!$E$53=$C54,情報入力!$G$53,0)","v":0}]
[null,"2025年","3月",{"$f":"情報入力!G$35","v":0},{"$f":"情報入力!$G$56+IF(情報入力!$E$54=$C55,情報入力!$G$54,0)","v":0},0,null,0,"完納",{"$f":"情報入力!$G$56+IF(情報入力!$E$54=$C55,情報入力!$G$54,0)","v":0}]

{"sheet":"支払い計画表","index":2,"n_rows":37,"n_cols":13,"rows_kept":37,"cut":false,"hidden":false,"merged":[[3,5,3,8],[2,5,2,8],[6,2,6,3],[6,9,6,10],[21,2,21,3],[21,9,21,10]]}
[null,null,null,null,null,null,null,null,"申込日：",null,"年","月","日"]
[]
["□支払い計画表　　",null,null,"学校名：",null,{"$f":"IF(情報入力!B2=0,\"\",IF(情報入力!B2=\"国際アート＿デザイン専門学校\",\"国際アート＆デザイン専門学校\",情報入力!B2))","v":""},null,null,null,null,"学生氏名",null,"㊞"]
[null,"（仮申込書）",null,"学科名・コース名：",null,{"$f":"IF(情報入力!B3=0,\"\",情報入力!B3)","v":""},null,null,null,{"$f":"情報入力!C3","v":""},"保護者氏名",null,"㊞"]
[null,null,null,null,null,null,null,null,null,"保護者連絡先　携帯・自宅"]
[]
[null,"1年次","毎月支払額（ボーナス月★）",null,null,"納入残高",null,null,"3年次","毎月支払額（ボーナス月★）",null,null,"納入残高"]
[1,"2021-04-01",{"$f":"IF(シミュレーション!F8=0,\"\",シミュレーション!F8)","v":""},{"$f":"IF(シミュレーション!F8=0,\"\",IF(IF(情報入力!E$47=シミュレーション!C8,情報入力!G$47,0)=0,\"\",\"★\"))","v":""},{"$f":"IF(シミュレーション!G8=0,\"\",シミュレーション!G8)","v":""},{"$f":"IF(シミュレーション!H8=0,\"\",シミュレーション!H8)","v":""},null,1,"2023-04-01",{"$f":"IF(シミュレーション!F32=0,\" \",シミュレーション!F32)","v":" "},{"$f":"IF(シミュレーション!F32=0,\"\",IF(IF(情報入力!E$51=シミュレーション!C32,情報入力!G$51,0)=0,\"\",\"★\"))","v":""},null,{"$f":"IF(シミュレーション!H32=0,\" \",シミュレーション!H32)","v":" "}]
[2,"2021-05-01",{"$f":"IF(シミュレーション!F9=0,\"\",シミュレーション!F9)","v":""},{"$f":"IF(シミュレーション!F9=0,\"\",IF(IF(情報入力!E$47=シミュレーション!C9,情報入力!G$47,0)=0,\"\",\"★\"))","v":""},{"$f":"IF(シミュレーション!G9=0,\"\",シミュレーション!G9)","v":""},{"$f":"IF(シミュレーション!H9=0,\"\",シミュレーション!H9)","v":""},null,2,"2023-05-01",{"$f":"IF(シミュレーション!F33=0,\" \",シミュレーション!F33)","v":" "},{"$f":"IF(シミュレーション!F33=0,\"\",IF(IF(情報入力!E$51=シミュレーション!C33,情報入力!G$51,0)=0,\"\",\"★\"))","v":""},null,{"$f":"IF(シミュレーション!H33=0,\" \",シミュレーション!H33)","v":" "}]
[3,"2021-06-01",{"$f":"IF(シミュレーション!F10=0,\"\",シミュレーション!F10)","v":""},{"$f":"IF(シミュレーション!F10=0,\"\",IF(IF(情報入力!E$47=シミュレーション!C10,情報入力!G$47,0)=0,\"\",\"★\"))","v":""},{"$f":"IF(シミュレーション!G10=0,\"\",シミュレーション!G10)","v":""},{"$f":"IF(シミュレーション!H10=0,\"\",シミュレーション!H10)","v":""},null,3,"2023-06-01",{"$f":"IF(シミュレーション!F34=0,\" \",シミュレーション!F34)","v":" "},{"$f":"IF(シミュレーション!F34=0,\"\",IF(IF(情報入力!E$51=シミュレーション!C34,情報入力!G$51,0)=0,\"\",\"★\"))","v":""},null,{"$f":"IF(シミュレーション!H34=0,\" \",シミュレーション!H34)","v":" "}]
[4,"2021-07-01",{"$f":"IF(シミュレーション!F11=0,\"\",シミュレーション!F11)","v":""},{"$f":"IF(シミュレーション!F11=0,\"\",IF(IF(情報入力!E$47=シミュレーション!C11,情報入力!G$47,0)=0,\"\",\"★\"))","v":""},{"$f":"IF(シミュレーション!G11=0,\"\",シミュレーション!G11)","v":""},{"$f":"IF(シミュレーション!H11=0,\"\",シミュレーション!H11)","v":""},null,4,"2023-07-01",{"$f":"IF(シミュレーション!F35=0,\" \",シミュレーション!F35)","v":" "},{"$f":"IF(シミュレーション!F35=0,\"\",IF(IF(情報入力!E$51=シミュレーション!C35,情報入力!G$51,0)=0,\"\",\"★\"))","v":""},null,{"$f":"IF(シミュレーション!H35=0,\" \",シミュレーション!H35)","v":" "}]
[5,"2021-08-01",{"$f":"IF(シミュレーション!F12=0,\"\",シミュレーション!F12)","v":""},{"$f":"IF(シミュレーション!F12=0,\"\",IF(IF(情報入力!E$47=シミュレーション!C12,情報入力!G$47,0)=0,\"\",\"★\"))","v":""},{"$f":"IF(シミュレーション!G12=0,\"\",シミュレーション!G12)","v":""},{"$f":"IF(シミュレーション!H12=0,\"\",シミュレーション!H12)","v":""},null,5,"2023-08-01",{"$f":"IF(シミュレーション!F36=0,\" \",シミュレーション!F36)","v":" "},{"$f":"IF(シミュレーション!F36=0,\"\",IF(IF(情報入力!E$51=シミュレーション!C36,情報入力!G$51,0)=0,\"\",\"★\"))","v":""},null,{"$f":"IF(シミュレーション!H36=0,\" \",シミュレーション!H36)","v":" "}]
[6,"2021-09-01",{"$f":"IF(シミュレーション!F13=0,\"\",シミュレーション!F13)","v":""},{"$f":"IF(シミュレーション!F13=0,\"\",IF(IF(情報入力!E$47=シミュレーション!C13,情報入力!G$47,0)=0,\"\",\"★\"))","v":""},{"$f":"IF(シミュレーション!G13=0,\"\",シミュレーション!G13)","v":""},{"$f":"IF(シミュレーション!H13=0,\"\",シミュレーション!H13)","v":""},null,6,"2023-09-01",{"$f":"IF(シミュレーション!F37=0,\" \",シミュレーション!F37)","v":" "},{"$f":"IF(シミュレーション!F37=0,\"\",IF(IF(情報入力!E$51=シミュレーション!C37,情報入力!G$51,0)=0,\"\",\"★\"))","v":""},null,{"$f":"IF(シミュレーション!H37=0,\" \",シミュレーション!H37)","v":" "}]
[7,"2021-10-01",{"$f":"IF(シミュレーション!F14=0,\"\",シミュレーション!F14)","v":""},{"$f":"IF(シミュレーション!F14=0,\"\",IF(IF(情報入力!E$48=シミュレーション!C14,情報入力!G$48,0)=0,\"\",\"★\"))","v":""},{"$f":"IF(シミュレーション!G14=0,\"\",シミュレーション!G14)","v":""},{"$f":"IF(シミュレーション!H14=0,\"\",シミュレーション!H14)","v":""},null,7,"2023-10-01",{"$f":"IF(シミュレーション!F38=0,\" \",シミュレーション!F38)","v":" "},{"$f":"IF(シミュレーション!F38=0,\"\",IF(IF(情報入力!E$52=シミュレーション!C38,情報入力!G$52,0)=0,\"\",\"★\"))","v":""},null,{"$f":"IF(シミュレーション!H38=0,\" \",シミュレーション!H38)","v":" "}]
[8,"2021-11-01",{"$f":"IF(シミュレーション!F15=0,\"\",シミュレーション!F15)","v":""},{"$f":"IF(シミュレーション!F15=0,\"\",IF(IF(情報入力!E$48=シミュレーション!C15,情報入力!G$48,0)=0,\"\",\"★\"))","v":""},{"$f":"IF(シミュレーション!G15=0,\"\",シミュレーション!G15)","v":""},{"$f":"IF(シミュレーション!H15=0,\"\",シミュレーション!H15)","v":""},null,8,"2023-11-01",{"$f":"IF(シミュレーション!F39=0,\" \",シミュレーション!F39)","v":" "},{"$f":"IF(シミュレーション!F39=0,\"\",IF(IF(情報入力!E$52=シミュレーション!C39,情報入力!G$52,0)=0,\"\",\"★\"))","v":""},null,{"$f":"IF(シミュレーション!H39=0,\" \",シミュレーション!H39)","v":" "}]
[9,"2021-12-01",{"$f":"IF(シミュレーション!F16=0,\"\",シミュレーション!F16)","v":""},{"$f":"IF(シミュレーション!F16=0,\"\",IF(IF(情報入力!E$48=シミュレーション!C16,情報入力!G$48,0)=0,\"\",\"★\"))","v":""},{"$f":"IF(シミュレーション!G16=0,\"\",シミュレーション!G16)","v":""},{"$f":"IF(シミュレーション!H16=0,\"\",シミュレーション!H16)","v":""},null,9,"2023-12-01",{"$f":"IF(シミュレーション!F40=0,\" \",シミュレーション!F40)","v":" "},{"$f":"IF(シミュレーション!F40=0,\"\",IF(IF(情報入力!E$52=シミュレーション!C40,情報入力!G$52,0)=0,\"\",\"★\"))","v":""},null,{"$f":"IF(シミュレーション!H40=0,\" \",シミュレーション!H40)","v":" "}]
[10,"2022-01-01",{"$f":"IF(シミュレーション!F17=0,\"\",シミュレーション!F17)","v":""},{"$f":"IF(シミュレーション!F17=0,\"\",IF(IF(情報入力!E$48=シミュレーション!C17,情報入力!G$48,0)=0,\"\",\"★\"))","v":""},{"$f":"IF(シミュレーション!G17=0,\"\",シミュレーション!G17)","v":""},{"$f":"IF(シミュレーション!H17=0,\"\",シミュレーション!H17)","v":""},null,10,"2024-01-01",{"$f":"IF(シミュレーション!F41=0,\" \",シミュレーション!F41)","v":" "},{"$f":"IF(シミュレーション!F41=0,\"\",IF(IF(情報入力!E$52=シミュレーション!C41,情報入力!G$52,0)=0,\"\",\"★\"))","v":""},null,{"$f":"IF(シミュレーション!H41=0,\" \",シミュレーション!H41)","v":" "}]
[11,"2022-02-01",{"$f":"IF(シミュレーション!F18=0,\"\",シミュレーション!F18)","v":""},{"$f":"IF(シミュレーション!F18=0,\"\",IF(IF(情報入力!E$48=シミュレーション!C18,情報入力!G$48,0)=0,\"\",\"★\"))","v":""},{"$f":"IF(シミュレーション!G18=0,\"\",シミュレーション!G18)","v":""},{"$f":"IF(シミュレーション!H18=0,\"\",シミュレーション!H18)","v":""},null,11,"2024-02-01",{"$f":"IF(シミュレーション!F42=0,\" \",シミュレーション!F42)","v":" "},{"$f":"IF(シミュレーション!F42=0,\"\",IF(IF(情報入力!E$52=シミュレーション!C42,情報入力!G$52,0)=0,\"\",\"★\"))","v":""},null,{"$f":"IF(シミュレーション!H42=0,\" \",シミュレーション!H42)","v":" "}]
[12,"2022-03-01",{"$f":"IF(シミュレーション!F19=0,\"\",シミュレーション!F19)","v":""},{"$f":"IF(シミュレーション!F19=0,\"\",IF(IF(情報入力!E$48=シミュレーション!C19,情報入力!G$48,0)=0,\"\",\"★\"))","v":""},{"$f":"IF(シミュレーション!G19=0,\"\",シミュレーション!G19)","v":""},{"$f":"IF(シミュレーション!H19=0,\"\",シミュレーション!H19)","v":""},null,12,"2024-03-01",{"$f":"IF(シミュレーション!F43=0,\" \",シミュレーション!F43)","v":" "},{"$f":"IF(シミュレーション!F43=0,\"\",IF(IF(情報入力!E$52=シミュレーション!C43,情報入力!G$52,0)=0,\"\",\"★\"))","v":""},null,{"$f":"IF(シミュレーション!H43=0,\" \",シミュレーション!H43)","v":" "}]
[null,"納入合計",{"$f":"SUM(C8:C19)","v":0},null,null,null,null,null,"納入合計",{"$f":"SUM(J8:K19)","v":0}]
[]
[null,"2年次","毎月支払額（ボーナス月★）",null,null,"納入残高",null,null,"4年次","毎月支払額（ボーナス月★）",null,null,"納入残高"]
[1,"2022-04-01",{"$f":"IF(シミュレーション!F20=0,\" \",シミュレーション!F20)","v":" "},{"$f":"IF(シミュレーション!F20=0,\"\",IF(IF(情報入力!E$49=シミュレーション!C20,情報入力!G$49,0)=0,\"\",\"★\"))","v":""},null,{"$f":"IF(シミュレーション!H20=0,\" \",シミュレーション!H20)","v":" "},null,1,"2024-04-01",{"$f":"IF(シミュレーション!F44=0,\" \",シミュレーション!F44)","v":" "},{"$f":"IF(シミュレーション!F44=0,\"\",IF(IF(情報入力!E$53=シミュレーション!C44,情報入力!G$53,0)=0,\"\",\"★\"))","v":""},null,{"$f":"IF(シミュレーション!H44=0,\" \",シミュレーション!H44)","v":" "}]
[2,"2022-05-01",{"$f":"IF(シミュレーション!F21=0,\" \",シミュレーション!F21)","v":" "},{"$f":"IF(シミュレーション!F21=0,\"\",IF(IF(情報入力!E$49=シミュレーション!C21,情報入力!G$49,0)=0,\"\",\"★\"))","v":""},null,{"$f":"IF(シミュレーション!H21=0,\" \",シミュレーション!H21)","v":" "},null,2,"2024-05-01",{"$f":"IF(シミュレーション!F45=0,\" \",シミュレーション!F45)","v":" "},{"$f":"IF(シミュレーション!F45=0,\"\",IF(IF(情報入力!E$53=シミュレーション!C45,情報入力!G$53,0)=0,\"\",\"★\"))","v":""},null,{"$f":"IF(シミュレーション!H45=0,\" \",シミュレーション!H45)","v":" "}]
[3,"2022-06-01",{"$f":"IF(シミュレーション!F22=0,\" \",シミュレーション!F22)","v":" "},{"$f":"IF(シミュレーション!F22=0,\"\",IF(IF(情報入力!E$49=シミュレーション!C22,情報入力!G$49,0)=0,\"\",\"★\"))","v":""},null,{"$f":"IF(シミュレーション!H22=0,\" \",シミュレーション!H22)","v":" "},null,3,"2024-06-01",{"$f":"IF(シミュレーション!F46=0,\" \",シミュレーション!F46)","v":" "},{"$f":"IF(シミュレーション!F46=0,\"\",IF(IF(情報入力!E$53=シミュレーション!C46,情報入力!G$53,0)=0,\"\",\"★\"))","v":""},null,{"$f":"IF(シミュレーション!H46=0,\" \",シミュレーション!H46)","v":" "}]
[4,"2022-07-01",{"$f":"IF(シミュレーション!F23=0,\" \",シミュレーション!F23)","v":" "},{"$f":"IF(シミュレーション!F23=0,\"\",IF(IF(情報入力!E$49=シミュレーション!C23,情報入力!G$49,0)=0,\"\",\"★\"))","v":""},null,{"$f":"IF(シミュレーション!H23=0,\" \",シミュレーション!H23)","v":" "},null,4,"2024-07-01",{"$f":"IF(シミュレーション!F47=0,\" \",シミュレーション!F47)","v":" "},{"$f":"IF(シミュレーション!F47=0,\"\",IF(IF(情報入力!E$53=シミュレーション!C47,情報入力!G$53,0)=0,\"\",\"★\"))","v":""},null,{"$f":"IF(シミュレーション!H47=0,\" \",シミュレーション!H47)","v":" "}]
[5,"2022-08-01",{"$f":"IF(シミュレーション!F24=0,\" \",シミュレーション!F24)","v":" "},{"$f":"IF(シミュレーション!F24=0,\"\",IF(IF(情報入力!E$49=シミュレーション!C24,情報入力!G$49,0)=0,\"\",\"★\"))","v":""},null,{"$f":"IF(シミュレーション!H24=0,\" \",シミュレーション!H24)","v":" "},null,5,"2024-08-01",{"$f":"IF(シミュレーション!F48=0,\" \",シミュレーション!F48)","v":" "},{"$f":"IF(シミュレーション!F48=0,\"\",IF(IF(情報入力!E$53=シミュレーション!C48,情報入力!G$53,0)=0,\"\",\"★\"))","v":""},null,{"$f":"IF(シミュレーション!H48=0,\" \",シミュレーション!H48)","v":" "}]
[6,"2022-09-01",{"$f":"IF(シミュレーション!F25=0,\" \",シミュレーション!F25)","v":" "},{"$f":"IF(シミュレーション!F25=0,\"\",IF(IF(情報入力!E$49=シミュレーション!C25,情報入力!G$49,0)=0,\"\",\"★\"))","v":""},null,{"$f":"IF(シミュレーション!H25=0,\" \",シミュレーション!H25)","v":" "},null,6,"2024-09-01",{"$f":"IF(シミュレーション!F49=0,\" \",シミュレーション!F49)","v":" "},{"$f":"IF(シミュレーション!F49=0,\"\",IF(IF(情報入力!E$53=シミュレーション!C49,情報入力!G$53,0)=0,\"\",\"★\"))","v":""},null,{"$f":"IF(シミュレーション!H49=0,\" \",シミュレーション!H49)","v":" "}]
[7,"2022-10-01",{"$f":"IF(シミュレーション!F26=0,\" \",シミュレーション!F26)","v":" "},{"$f":"IF(シミュレーション!F26=0,\"\",IF(IF(情報入力!E$50=シミュレーション!C26,情報入力!G$50,0)=0,\"\",\"★\"))","v":""},null,{"$f":"IF(シミュレーション!H26=0,\" \",シミュレーション!H26)","v":" "},null,7,"2024-10-01",{"$f":"IF(シミュレーション!F50=0,\" \",シミュレーション!F50)","v":" "},{"$f":"IF(シミュレーション!F50=0,\"\",IF(IF(情報入力!E$54=シミュレーション!C50,情報入力!G$54,0)=0,\"\",\"★\"))","v":""},null,{"$f":"IF(シミュレーション!H50=0,\" \",シミュレーション!H50)","v":" "}]
[8,"2022-11-01",{"$f":"IF(シミュレーション!F27=0,\" \",シミュレーション!F27)","v":" "},{"$f":"IF(シミュレーション!F27=0,\"\",IF(IF(情報入力!E$50=シミュレーション!C27,情報入力!G$50,0)=0,\"\",\"★\"))","v":""},null,{"$f":"IF(シミュレーション!H27=0,\" \",シミュレーション!H27)","v":" "},null,8,"2024-11-01",{"$f":"IF(シミュレーション!F51=0,\" \",シミュレーション!F51)","v":" "},{"$f":"IF(シミュレーション!F51=0,\"\",IF(IF(情報入力!E$54=シミュレーション!C51,情報入力!G$54,0)=0,\"\",\"★\"))","v":""},null,{"$f":"IF(シミュレーション!H51=0,\" \",シミュレーション!H51)","v":" "}]
[9,"2022-12-01",{"$f":"IF(シミュレーション!F28=0,\" \",シミュレーション!F28)","v":" "},{"$f":"IF(シミュレーション!F28=0,\"\",IF(IF(情報入力!E$50=シミュレーション!C28,情報入力!G$50,0)=0,\"\",\"★\"))","v":""},null,{"$f":"IF(シミュレーション!H28=0,\" \",シミュレーション!H28)","v":" "},null,9,"2024-12-01",{"$f":"IF(シミュレーション!F52=0,\" \",シミュレーション!F52)","v":" "},{"$f":"IF(シミュレーション!F52=0,\"\",IF(IF(情報入力!E$54=シミュレーション!C52,情報入力!G$54,0)=0,\"\",\"★\"))","v":""},null,{"$f":"IF(シミュレーション!H52=0,\" \",シミュレーション!H52)","v":" "}]
[10,"2023-01-01",{"$f":"IF(シミュレーション!F29=0,\" \",シミュレーション!F29)","v":" "},{"$f":"IF(シミュレーション!F29=0,\"\",IF(IF(情報入力!E$50=シミュレーション!C29,情報入力!G$50,0)=0,\"\",\"★\"))","v":""},null,{"$f":"IF(シミュレーション!H29=0,\" \",シミュレーション!H29)","v":" "},null,10,"2025-01-01",{"$f":"IF(シミュレーション!F53=0,\" \",シミュレーション!F53)","v":" "},{"$f":"IF(シミュレーション!F53=0,\"\",IF(IF(情報入力!E$54=シミュレーション!C53,情報入力!G$54,0)=0,\"\",\"★\"))","v":""},null,{"$f":"IF(シミュレーション!H53=0,\" \",シミュレーション!H53)","v":" "}]
[11,"2023-02-01",{"$f":"IF(シミュレーション!F30=0,\" \",シミュレーション!F30)","v":" "},{"$f":"IF(シミュレーション!F30=0,\"\",IF(IF(情報入力!E$50=シミュレーション!C30,情報入力!G$50,0)=0,\"\",\"★\"))","v":""},null,{"$f":"IF(シミュレーション!H30=0,\" \",シミュレーション!H30)","v":" "},null,11,null,{"$f":"IF(シミュレーション!F54=0,\" \",シミュレーション!F54)","v":" "},{"$f":"IF(シミュレーション!F54=0,\"\",IF(IF(情報入力!E$54=シミュレーション!C54,情報入力!G$54,0)=0,\"\",\"★\"))","v":""},null,{"$f":"IF(シミュレーション!H54=0,\" \",シミュレーション!H54)","v":" "}]
[12,"2023-03-01",{"$f":"IF(シミュレーション!F31=0,\" \",シミュレーション!F31)","v":" "},{"$f":"IF(シミュレーション!F31=0,\"\",IF(IF(情報入力!E$50=シミュレーション!C31,情報入力!G$50,0)=0,\"\",\"★\"))","v":""},null,{"$f":"IF(シミュレーション!H31=0,\" \",シミュレーション!H31)","v":" "},null,12,null,{"$f":"IF(シミュレーション!F55=0,\" \",シミュレーション!F55)","v":" "},{"$f":"IF(シミュレーション!F55=0,\"\",IF(IF(情報入力!E$54=シミュレーション!C55,情報入力!G$54,0)=0,\"\",\"★\"))","v":""},null,{"$f":"IF(シミュレーション!H55=0,\" \",シミュレーション!H55)","v":" "}]
[null,"納入合計",{"$f":"SUM(C23:D34)","v":0},null,null,null,null,null,"納入合計",{"$f":"SUM(J23:K34)","v":0}]
[]
[null,"※上記計画の通り、学費等の分割納入制度を申し込みます。事務手数料として15,000円(税別/年数)を指定日までにお納めいただきます。"]

{"sheet":"シミュレーション※金額入力可能","index":3,"n_rows":55,"n_cols":9,"rows_kept":55,"cut":false,"hidden":false,"merged":[[6,0,18,0],[19,0,30,0],[31,0,42,0],[43,0,54,0]]}
["学費分納シミュレーション"]
[null,"※下記金額とは別に事務手数料として15,000円(税別/年数)をお納めいただきます。"]
[null,"※奨学金の初回貸与は申し込み手続き上、3ヶ月分(4月～6月)を6月貸与、支払いでシミュレーションしております。"]
[]
[null,null,null,null,null,null,"納入学費の総合計",{"$f":"情報入力!C25","v":0}]
[null,null,null,"月々奨学金貸与額","ボーナス等自己負担額","学費の支払い","学費の免除","納入残高"]
["１年次","令和3年","入学前",null,null,{"$f":"SUM(D7:E7)","v":0},null,{"$f":"H5-F7-G7","v":0},{"$f":"IF(H7<=0,\"完納\",\"\")","v":"完納"}]
[null,"令和3年","4月",null,null,{"$f":"IF(SUM(D8:E8)<=H7,SUM(D8:E8),H7)","v":0},null,{"$f":"H7-F8-G8","v":0},{"$f":"IF(H8<=0,\"完納\",\"\")","v":"完納"}]
[null,"令和3年","5月",null,null,{"$f":"IF(SUM(D9:E9)<=H8,SUM(D9:E9),H8)","v":0},null,{"$f":"H8-F9-G9","v":0},"完納"]
[null,"令和3年","6月",null,null,{"$f":"IF(SUM(D10:E10)<=H9,SUM(D10:E10),H9)","v":0},null,0,"完納"]
[null,"令和3年","7月",null,null,{"$f":"IF(SUM(D11:E11)<=H10,SUM(D11:E11),H10)","v":0},null,0,"完納"]
[null,"令和3年","8月",null,null,{"$f":"IF(SUM(D12:E12)<=H11,SUM(D12:E12),H11)","v":0},null,0,"完納"]
[null,"令和3年","9月",null,null,{"$f":"IF(SUM(D13:E13)<=H12,SUM(D13:E13),H12)","v":0},null,0,"完納"]
[null,"令和3年","10月",null,null,0,null,0,"完納"]
[null,"令和3年","11月",null,null,0,null,0,"完納"]
[null,"令和3年","12月",null,null,0,null,0,"完納"]
[null,"令和4年","1月",null,null,0,null,0,"完納"]
[null,"令和4年","2月",null,null,0,null,0,"完納"]
[null,"令和4年","3月",null,null,0,null,0,"完納"]
["２年次","令和4年","4月",null,null,0,null,0,"完納"]
[null,"令和4年","5月",null,null,0,null,0,"完納"]
[null,"令和4年","6月",null,null,0,null,0,"完納"]
[null,"令和4年","7月",null,null,0,null,0,"完納"]
[null,"令和4年","8月",null,null,0,null,0,"完納"]
[null,"令和4年","9月",null,null,0,null,0,"完納"]
[null,"令和4年","10月",null,null,0,null,0,"完納"]
[null,"令和4年","11月",null,null,0,null,0,"完納"]
[null,"令和4年","12月",null,null,0,null,0,"完納"]
[null,"令和5年","1月",null,null,0,null,0,"完納"]
[null,"令和5年","2月",null,null,0,null,0,"完納"]
[null,"令和5年","3月",null,null,0,null,0,"完納"]
["３年次","令和5年","4月",null,null,0,null,0,"完納"]
[null,"令和5年","5月",null,null,0,null,0,"完納"]
[null,"令和5年","6月",null,null,0,null,0,"完納"]
[null,"令和5年","7月",null,null,0,null,0,"完納"]
[null,"令和5年","8月",null,null,0,null,0,"完納"]
[null,"令和5年","9月",null,null,0,null,0,"完納"]
[null,"令和5年","10月",null,null,0,null,0,"完納"]
[null,"令和5年","11月",null,null,0,null,0,"完納"]
[null,"令和5年","12月",null,null,0,null,0,"完納"]
[null,"令和6年","1月",null,null,{"$f":"IF(SUM(D41:E41)<=H40,SUM(D41:E41),H40)","v":0},null,0,{"$f":"IF(H41<=0,\"完納\",\"\")","v":"完納"}]
[null,"令和6年","2月",null,null,0,null,0,"完納"]
[null,"令和6年","3月",null,null,0,null,0,"完納"]
["４年次","令和6年","4月",null,null,0,null,0,"完納"]
[null,"令和6年","5月",null,null,0,null,0,"完納"]
[null,"令和6年","6月",null,null,0,null,0,"完納"]
[null,"令和6年","7月",null,null,0,null,0,"完納"]
[null,"令和6年","8月",null,null,0,null,0,"完納"]
[null,"令和6年","9月",null,null,0,null,0,"完納"]
[null,"令和6年","10月",null,null,0,null,0,"完納"]
[null,"令和6年","11月",null,null,0,null,0,"完納"]
[null,"令和6年","12月",null,null,0,null,0,"完納"]
[null,"令和7年","1月",null,null,0,null,0,"完納"]
[null,"令和7年","2月",null,null,0,null,0,"完納"]
[null,"令和7年","3月",null,null,0,null,0,"完納"]

{"sheet":"支払い計画表※金額入力可能","index":4,"n_rows":37,"n_cols":13,"rows_kept":37,"cut":false,"hidden":false,"merged":[[2,5,2,8],[3,5,3,8],[6,2,6,3],[6,9,6,10],[21,2,21,3],[21,9,21,10]]}
[null,null,null,null,null,null,null,null,"申込日：","平成","年","月","日"]
[]
["□支払い計画表　　",null,null,null,"学校名：",{"$f":"IF(情報入力!B2=0,\"\",情報入力!B2)","v":""},null,null,null,null,"学生氏名",null,"㊞"]
[null,"（仮申込書）",null,null,"学科名・コース名：",{"$f":"IF(情報入力!B3=0,\"\",情報入力!B3)","v":""},null,null,null,{"$f":"情報入力!C3","v":""},"保護者氏名",null,"㊞"]
[null,null,null,null,null,null,null,null,null,"保護者連絡先　携帯・自宅"]
[]
[null,"1年次","毎月支払額（ボーナス月★）",null,"学費免除額","納入残高",null,null,"3年次","毎月支払額（ボーナス月★）",null,"学費免除額","納入残高"]
[1,"令和3年4月",{"$f":"IF(シミュレーション※金額入力可能!F8=0,\"\",シミュレーション※金額入力可能!F8)","v":""},{"$f":"IF(シミュレーション※金額入力可能!F8=0,\"\",IF(IF(情報入力!E$47=シミュレーション※金額入力可能!C8,情報入力!G$47,0)=0,\"\",\"★\"))","v":""},{"$f":"IF(シミュレーション※金額入力可能!G8=0,\"\",シミュレーション※金額入力可能!G8)","v":""},{"$f":"IF(シミュレーション※金額入力可能!H8=0,\"\",シミュレーション※金額入力可能!H8)","v":""},null,1,"令和5年4月",{"$f":"IF(シミュレーション※金額入力可能!F32=0,\" \",シミュレーション※金額入力可能!F32)","v":" "},{"$f":"IF(シミュレーション※金額入力可能!F32=0,\"\",IF(IF(情報入力!E$51=シミュレーション※金額入力可能!C32,情報入力!G$51,0)=0,\"\",\"★\"))","v":""},null,{"$f":"IF(シミュレーション※金額入力可能!H32=0,\" \",シミュレーション※金額入力可能!H32)","v":" "}]
[2,"令和3年5月",{"$f":"IF(シミュレーション※金額入力可能!F9=0,\"\",シミュレーション※金額入力可能!F9)","v":""},{"$f":"IF(シミュレーション※金額入力可能!F9=0,\"\",IF(IF(情報入力!E$47=シミュレーション※金額入力可能!C9,情報入力!G$47,0)=0,\"\",\"★\"))","v":""},{"$f":"IF(シミュレーション※金額入力可能!G9=0,\"\",シミュレーション※金額入力可能!G9)","v":""},{"$f":"IF(シミュレーション※金額入力可能!H9=0,\"\",シミュレーション※金額入力可能!H9)","v":""},null,2,"令和5年5月",{"$f":"IF(シミュレーション※金額入力可能!F33=0,\" \",シミュレーション※金額入力可能!F33)","v":" "},{"$f":"IF(シミュレーション※金額入力可能!F33=0,\"\",IF(IF(情報入力!E$51=シミュレーション※金額入力可能!C33,情報入力!G$51,0)=0,\"\",\"★\"))","v":""},null,{"$f":"IF(シミュレーション※金額入力可能!H33=0,\" \",シミュレーション※金額入力可能!H33)","v":" "}]
[3,"令和3年6月",{"$f":"IF(シミュレーション※金額入力可能!F10=0,\"\",シミュレーション※金額入力可能!F10)","v":""},{"$f":"IF(シミュレーション※金額入力可能!F10=0,\"\",IF(IF(情報入力!E$47=シミュレーション※金額入力可能!C10,情報入力!G$47,0)=0,\"\",\"★\"))","v":""},{"$f":"IF(シミュレーション※金額入力可能!G10=0,\"\",シミュレーション※金額入力可能!G10)","v":""},{"$f":"IF(シミュレーション※金額入力可能!H10=0,\"\",シミュレーション※金額入力可能!H10)","v":""},null,3,"令和5年6月",{"$f":"IF(シミュレーション※金額入力可能!F34=0,\" \",シミュレーション※金額入力可能!F34)","v":" "},{"$f":"IF(シミュレーション※金額入力可能!F34=0,\"\",IF(IF(情報入力!E$51=シミュレーション※金額入力可能!C34,情報入力!G$51,0)=0,\"\",\"★\"))","v":""},null,{"$f":"IF(シミュレーション※金額入力可能!H34=0,\" \",シミュレーション※金額入力可能!H34)","v":" "}]
[4,"令和3年7月",{"$f":"IF(シミュレーション※金額入力可能!F11=0,\"\",シミュレーション※金額入力可能!F11)","v":""},{"$f":"IF(シミュレーション※金額入力可能!F11=0,\"\",IF(IF(情報入力!E$47=シミュレーション※金額入力可能!C11,情報入力!G$47,0)=0,\"\",\"★\"))","v":""},{"$f":"IF(シミュレーション※金額入力可能!G11=0,\"\",シミュレーション※金額入力可能!G11)","v":""},{"$f":"IF(シミュレーション※金額入力可能!H11=0,\"\",シミュレーション※金額入力可能!H11)","v":""},null,4,"令和5年7月",{"$f":"IF(シミュレーション※金額入力可能!F35=0,\" \",シミュレーション※金額入力可能!F35)","v":" "},{"$f":"IF(シミュレーション※金額入力可能!F35=0,\"\",IF(IF(情報入力!E$51=シミュレーション※金額入力可能!C35,情報入力!G$51,0)=0,\"\",\"★\"))","v":""},null,{"$f":"IF(シミュレーション※金額入力可能!H35=0,\" \",シミュレーション※金額入力可能!H35)","v":" "}]
[5,"令和3年8月",{"$f":"IF(シミュレーション※金額入力可能!F12=0,\"\",シミュレーション※金額入力可能!F12)","v":""},{"$f":"IF(シミュレーション※金額入力可能!F12=0,\"\",IF(IF(情報入力!E$47=シミュレーション※金額入力可能!C12,情報入力!G$47,0)=0,\"\",\"★\"))","v":""},{"$f":"IF(シミュレーション※金額入力可能!G12=0,\"\",シミュレーション※金額入力可能!G12)","v":""},{"$f":"IF(シミュレーション※金額入力可能!H12=0,\"\",シミュレーション※金額入力可能!H12)","v":""},null,5,"令和5年8月",{"$f":"IF(シミュレーション※金額入力可能!F36=0,\" \",シミュレーション※金額入力可能!F36)","v":" "},{"$f":"IF(シミュレーション※金額入力可能!F36=0,\"\",IF(IF(情報入力!E$51=シミュレーション※金額入力可能!C36,情報入力!G$51,0)=0,\"\",\"★\"))","v":""},null,{"$f":"IF(シミュレーション※金額入力可能!H36=0,\" \",シミュレーション※金額入力可能!H36)","v":" "}]
[6,"令和3年9月",{"$f":"IF(シミュレーション※金額入力可能!F13=0,\"\",シミュレーション※金額入力可能!F13)","v":""},{"$f":"IF(シミュレーション※金額入力可能!F13=0,\"\",IF(IF(情報入力!E$47=シミュレーション※金額入力可能!C13,情報入力!G$47,0)=0,\"\",\"★\"))","v":""},{"$f":"IF(シミュレーション※金額入力可能!G13=0,\"\",シミュレーション※金額入力可能!G13)","v":""},{"$f":"IF(シミュレーション※金額入力可能!H13=0,\"\",シミュレーション※金額入力可能!H13)","v":""},null,6,"令和5年9月",{"$f":"IF(シミュレーション※金額入力可能!F37=0,\" \",シミュレーション※金額入力可能!F37)","v":" "},{"$f":"IF(シミュレーション※金額入力可能!F37=0,\"\",IF(IF(情報入力!E$51=シミュレーション※金額入力可能!C37,情報入力!G$51,0)=0,\"\",\"★\"))","v":""},null,{"$f":"IF(シミュレーション※金額入力可能!H37=0,\" \",シミュレーション※金額入力可能!H37)","v":" "}]
[7,"令和3年10月",{"$f":"IF(シミュレーション※金額入力可能!F14=0,\"\",シミュレーション※金額入力可能!F14)","v":""},{"$f":"IF(シミュレーション※金額入力可能!F14=0,\"\",IF(IF(情報入力!E$48=シミュレーション※金額入力可能!C14,情報入力!G$48,0)=0,\"\",\"★\"))","v":""},{"$f":"IF(シミュレーション※金額入力可能!G14=0,\"\",シミュレーション※金額入力可能!G14)","v":""},{"$f":"IF(シミュレーション※金額入力可能!H14=0,\"\",シミュレーション※金額入力可能!H14)","v":""},null,7,"令和5年10月",{"$f":"IF(シミュレーション※金額入力可能!F38=0,\" \",シミュレーション※金額入力可能!F38)","v":" "},{"$f":"IF(シミュレーション※金額入力可能!F38=0,\"\",IF(IF(情報入力!E$52=シミュレーション※金額入力可能!C38,情報入力!G$52,0)=0,\"\",\"★\"))","v":""},null,{"$f":"IF(シミュレーション※金額入力可能!H38=0,\" \",シミュレーション※金額入力可能!H38)","v":" "}]
[8,"令和3年11月",{"$f":"IF(シミュレーション※金額入力可能!F15=0,\"\",シミュレーション※金額入力可能!F15)","v":""},{"$f":"IF(シミュレーション※金額入力可能!F15=0,\"\",IF(IF(情報入力!E$48=シミュレーション※金額入力可能!C15,情報入力!G$48,0)=0,\"\",\"★\"))","v":""},{"$f":"IF(シミュレーション※金額入力可能!G15=0,\"\",シミュレーション※金額入力可能!G15)","v":""},{"$f":"IF(シミュレーション※金額入力可能!H15=0,\"\",シミュレーション※金額入力可能!H15)","v":""},null,8,"令和5年11月",{"$f":"IF(シミュレーション※金額入力可能!F39=0,\" \",シミュレーション※金額入力可能!F39)","v":" "},{"$f":"IF(シミュレーション※金額入力可能!F39=0,\"\",IF(IF(情報入力!E$52=シミュレーション※金額入力可能!C39,情報入力!G$52,0)=0,\"\",\"★\"))","v":""},null,{"$f":"IF(シミュレーション※金額入力可能!H39=0,\" \",シミュレーション※金額入力可能!H39)","v":" "}]
[9,"令和3年12月",{"$f":"IF(シミュレーション※金額入力可能!F16=0,\"\",シミュレーション※金額入力可能!F16)","v":""},{"$f":"IF(シミュレーション※金額入力可能!F16=0,\"\",IF(IF(情報入力!E$48=シミュレーション※金額入力可能!C16,情報入力!G$48,0)=0,\"\",\"★\"))","v":""},{"$f":"IF(シミュレーション※金額入力可能!G16=0,\"\",シミュレーション※金額入力可能!G16)","v":""},{"$f":"IF(シミュレーション※金額入力可能!H16=0,\"\",シミュレーション※金額入力可能!H16)","v":""},null,9,"令和5年12月",{"$f":"IF(シミュレーション※金額入力可能!F40=0,\" \",シミュレーション※金額入力可能!F40)","v":" "},{"$f":"IF(シミュレーション※金額入力可能!F40=0,\"\",IF(IF(情報入力!E$52=シミュレーション※金額入力可能!C40,情報入力!G$52,0)=0,\"\",\"★\"))","v":""},null,{"$f":"IF(シミュレーション※金額入力可能!H40=0,\" \",シミュレーション※金額入力可能!H40)","v":" "}]
[10,"令和4年1月",{"$f":"IF(シミュレーション※金額入力可能!F17=0,\"\",シミュレーション※金額入力可能!F17)","v":""},{"$f":"IF(シミュレーション※金額入力可能!F17=0,\"\",IF(IF(情報入力!E$48=シミュレーション※金額入力可能!C17,情報入力!G$48,0)=0,\"\",\"★\"))","v":""},{"$f":"IF(シミュレーション※金額入力可能!G17=0,\"\",シミュレーション※金額入力可能!G17)","v":""},{"$f":"IF(シミュレーション※金額入力可能!H17=0,\"\",シミュレーション※金額入力可能!H17)","v":""},null,10,"令和6年1月",{"$f":"IF(シミュレーション※金額入力可能!F41=0,\" \",シミュレーション※金額入力可能!F41)","v":" "},{"$f":"IF(シミュレーション※金額入力可能!F41=0,\"\",IF(IF(情報入力!E$52=シミュレーション※金額入力可能!C41,情報入力!G$52,0)=0,\"\",\"★\"))","v":""},null,{"$f":"IF(シミュレーション※金額入力可能!H41=0,\" \",シミュレーション※金額入力可能!H41)","v":" "}]
[11,"令和4年2月",{"$f":"IF(シミュレーション※金額入力可能!F18=0,\"\",シミュレーション※金額入力可能!F18)","v":""},{"$f":"IF(シミュレーション※金額入力可能!F18=0,\"\",IF(IF(情報入力!E$48=シミュレーション※金額入力可能!C18,情報入力!G$48,0)=0,\"\",\"★\"))","v":""},{"$f":"IF(シミュレーション※金額入力可能!G18=0,\"\",シミュレーション※金額入力可能!G18)","v":""},{"$f":"IF(シミュレーション※金額入力可能!H18=0,\"\",シミュレーション※金額入力可能!H18)","v":""},null,11,"令和6年2月",{"$f":"IF(シミュレーション※金額入力可能!F42=0,\" \",シミュレーション※金額入力可能!F42)","v":" "},{"$f":"IF(シミュレーション※金額入力可能!F42=0,\"\",IF(IF(情報入力!E$52=シミュレーション※金額入力可能!C42,情報入力!G$52,0)=0,\"\",\"★\"))","v":""},null,{"$f":"IF(シミュレーション※金額入力可能!H42=0,\" \",シミュレーション※金額入力可能!H42)","v":" "}]
[12,"令和4年3月",{"$f":"IF(シミュレーション※金額入力可能!F19=0,\"\",シミュレーション※金額入力可能!F19)","v":""},{"$f":"IF(シミュレーション※金額入力可能!F19=0,\"\",IF(IF(情報入力!E$48=シミュレーション※金額入力可能!C19,情報入力!G$48,0)=0,\"\",\"★\"))","v":""},{"$f":"IF(シミュレーション※金額入力可能!G19=0,\"\",シミュレーション※金額入力可能!G19)","v":""},{"$f":"IF(シミュレーション※金額入力可能!H19=0,\"\",シミュレーション※金額入力可能!H19)","v":""},null,12,"令和6年3月",{"$f":"IF(シミュレーション※金額入力可能!F43=0,\" \",シミュレーション※金額入力可能!F43)","v":" "},{"$f":"IF(シミュレーション※金額入力可能!F43=0,\"\",IF(IF(情報入力!E$52=シミュレーション※金額入力可能!C43,情報入力!G$52,0)=0,\"\",\"★\"))","v":""},null,{"$f":"IF(シミュレーション※金額入力可能!H43=0,\" \",シミュレーション※金額入力可能!H43)","v":" "}]
[null,"納入合計",{"$f":"SUM(C8:C19)","v":0},null,null,null,null,null,"納入合計",{"$f":"SUM(J8:K19)","v":0}]
[]
[null,"2年次","毎月支払額（ボーナス月★）",null,"学費免除額","納入残高",null,null,"4年次","毎月支払額（ボーナス月★）",null,"学費免除額","納入残高"]
[1,"令和4年4月",{"$f":"IF(シミュレーション※金額入力可能!F20=0,\" \",シミュレーション※金額入力可能!F20)","v":" "},{"$f":"IF(シミュレーション※金額入力可能!F20=0,\"\",IF(IF(情報入力!E$49=シミュレーション※金額入力可能!C20,情報入力!G$49,0)=0,\"\",\"★\"))","v":""},null,{"$f":"IF(シミュレーション※金額入力可能!H20=0,\" \",シミュレーション※金額入力可能!H20)","v":" "},null,1,"令和6年4月",{"$f":"IF(シミュレーション※金額入力可能!F44=0,\" \",シミュレーション※金額入力可能!F44)","v":" "},{"$f":"IF(シミュレーション※金額入力可能!F44=0,\"\",IF(IF(情報入力!E$53=シミュレーション※金額入力可能!C44,情報入力!G$53,0)=0,\"\",\"★\"))","v":""},null,{"$f":"IF(シミュレーション※金額入力可能!H44=0,\" \",シミュレーション※金額入力可能!H44)","v":" "}]
[2,"令和4年5月",{"$f":"IF(シミュレーション※金額入力可能!F21=0,\" \",シミュレーション※金額入力可能!F21)","v":" "},{"$f":"IF(シミュレーション※金額入力可能!F21=0,\"\",IF(IF(情報入力!E$49=シミュレーション※金額入力可能!C21,情報入力!G$49,0)=0,\"\",\"★\"))","v":""},null,{"$f":"IF(シミュレーション※金額入力可能!H21=0,\" \",シミュレーション※金額入力可能!H21)","v":" "},null,2,"令和6年5月",{"$f":"IF(シミュレーション※金額入力可能!F45=0,\" \",シミュレーション※金額入力可能!F45)","v":" "},{"$f":"IF(シミュレーション※金額入力可能!F45=0,\"\",IF(IF(情報入力!E$53=シミュレーション※金額入力可能!C45,情報入力!G$53,0)=0,\"\",\"★\"))","v":""},null,{"$f":"IF(シミュレーション※金額入力可能!H45=0,\" \",シミュレーション※金額入力可能!H45)","v":" "}]
[3,"令和4年6月",{"$f":"IF(シミュレーション※金額入力可能!F22=0,\" \",シミュレーション※金額入力可能!F22)","v":" "},{"$f":"IF(シミュレーション※金額入力可能!F22=0,\"\",IF(IF(情報入力!E$49=シミュレーション※金額入力可能!C22,情報入力!G$49,0)=0,\"\",\"★\"))","v":""},null,{"$f":"IF(シミュレーション※金額入力可能!H22=0,\" \",シミュレーション※金額入力可能!H22)","v":" "},null,3,"令和6年6月",{"$f":"IF(シミュレーション※金額入力可能!F46=0,\" \",シミュレーション※金額入力可能!F46)","v":" "},{"$f":"IF(シミュレーション※金額入力可能!F46=0,\"\",IF(IF(情報入力!E$53=シミュレーション※金額入力可能!C46,情報入力!G$53,0)=0,\"\",\"★\"))","v":""},null,{"$f":"IF(シミュレーション※金額入力可能!H46=0,\" \",シミュレーション※金額入力可能!H46)","v":" "}]
[4,"令和4年7月",{"$f":"IF(シミュレーション※金額入力可能!F23=0,\" \",シミュレーション※金額入力可能!F23)","v":" "},{"$f":"IF(シミュレーション※金額入力可能!F23=0,\"\",IF(IF(情報入力!E$49=シミュレーション※金額入力可能!C23,情報入力!G$49,0)=0,\"\",\"★\"))","v":""},null,{"$f":"IF(シミュレーション※金額入力可能!H23=0,\" \",シミュレーション※金額入力可能!H23)","v":" "},null,4,"令和6年7月",{"$f":"IF(シミュレーション※金額入力可能!F47=0,\" \",シミュレーション※金額入力可能!F47)","v":" "},{"$f":"IF(シミュレーション※金額入力可能!F47=0,\"\",IF(IF(情報入力!E$53=シミュレーション※金額入力可能!C47,情報入力!G$53,0)=0,\"\",\"★\"))","v":""},null,{"$f":"IF(シミュレーション※金額入力可能!H47=0,\" \",シミュレーション※金額入力可能!H47)","v":" "}]
[5,"令和4年8月",{"$f":"IF(シミュレーション※金額入力可能!F24=0,\" \",シミュレーション※金額入力可能!F24)","v":" "},{"$f":"IF(シミュレーション※金額入力可能!F24=0,\"\",IF(IF(情報入力!E$49=シミュレーション※金額入力可能!C24,情報入力!G$49,0)=0,\"\",\"★\"))","v":""},null,{"$f":"IF(シミュレーション※金額入力可能!H24=0,\" \",シミュレーション※金額入力可能!H24)","v":" "},null,5,"令和6年8月",{"$f":"IF(シミュレーション※金額入力可能!F48=0,\" \",シミュレーション※金額入力可能!F48)","v":" "},{"$f":"IF(シミュレーション※金額入力可能!F48=0,\"\",IF(IF(情報入力!E$53=シミュレーション※金額入力可能!C48,情報入力!G$53,0)=0,\"\",\"★\"))","v":""},null,{"$f":"IF(シミュレーション※金額入力可能!H48=0,\" \",シミュレーション※金額入力可能!H48)","v":" "}]
[6,"令和4年9月",{"$f":"IF(シミュレーション※金額入力可能!F25=0,\" \",シミュレーション※金額入力可能!F25)","v":" "},{"$f":"IF(シミュレーション※金額入力可能!F25=0,\"\",IF(IF(情報入力!E$49=シミュレーション※金額入力可能!C25,情報入力!G$49,0)=0,\"\",\"★\"))","v":""},null,{"$f":"IF(シミュレーション※金額入力可能!H25=0,\" \",シミュレーション※金額入力可能!H25)","v":" "},null,6,"令和6年9月",{"$f":"IF(シミュレーション※金額入力可能!F49=0,\" \",シミュレーション※金額入力可能!F49)","v":" "},{"$f":"IF(シミュレーション※金額入力可能!F49=0,\"\",IF(IF(情報入力!E$53=シミュレーション※金額入力可能!C49,情報入力!G$53,0)=0,\"\",\"★\"))","v":""},null,{"$f":"IF(シミュレーション※金額入力可能!H49=0,\" \",シミュレーション※金額入力可能!H49)","v":" "}]
[7,"令和4年10月",{"$f":"IF(シミュレーション※金額入力可能!F26=0,\" \",シミュレーション※金額入力可能!F26)","v":" "},{"$f":"IF(シミュレーション※金額入力可能!F26=0,\"\",IF(IF(情報入力!E$50=シミュレーション※金額入力可能!C26,情報入力!G$50,0)=0,\"\",\"★\"))","v":""},null,{"$f":"IF(シミュレーション※金額入力可能!H26=0,\" \",シミュレーション※金額入力可能!H26)","v":" "},null,7,"令和6年10月",{"$f":"IF(シミュレーション※金額入力可能!F50=0,\" \",シミュレーション※金額入力可能!F50)","v":" "},{"$f":"IF(シミュレーション※金額入力可能!F50=0,\"\",IF(IF(情報入力!E$54=シミュレーション※金額入力可能!C50,情報入力!G$54,0)=0,\"\",\"★\"))","v":""},null,{"$f":"IF(シミュレーション※金額入力可能!H50=0,\" \",シミュレーション※金額入力可能!H50)","v":" "}]
[8,"令和4年11月",{"$f":"IF(シミュレーション※金額入力可能!F27=0,\" \",シミュレーション※金額入力可能!F27)","v":" "},{"$f":"IF(シミュレーション※金額入力可能!F27=0,\"\",IF(IF(情報入力!E$50=シミュレーション※金額入力可能!C27,情報入力!G$50,0)=0,\"\",\"★\"))","v":""},null,{"$f":"IF(シミュレーション※金額入力可能!H27=0,\" \",シミュレーション※金額入力可能!H27)","v":" "},null,8,"令和6年11月",{"$f":"IF(シミュレーション※金額入力可能!F51=0,\" \",シミュレーション※金額入力可能!F51)","v":" "},{"$f":"IF(シミュレーション※金額入力可能!F51=0,\"\",IF(IF(情報入力!E$54=シミュレーション※金額入力可能!C51,情報入力!G$54,0)=0,\"\",\"★\"))","v":""},null,{"$f":"IF(シミュレーション※金額入力可能!H51=0,\" \",シミュレーション※金額入力可能!H51)","v":" "}]
[9,"令和4年12月",{"$f":"IF(シミュレーション※金額入力可能!F28=0,\" \",シミュレーション※金額入力可能!F28)","v":" "},{"$f":"IF(シミュレーション※金額入力可能!F28=0,\"\",IF(IF(情報入力!E$50=シミュレーション※金額入力可能!C28,情報入力!G$50,0)=0,\"\",\"★\"))","v":""},null,{"$f":"IF(シミュレーション※金額入力可能!H28=0,\" \",シミュレーション※金額入力可能!H28)","v":" "},null,9,"令和6年12月",{"$f":"IF(シミュレーション※金額入力可能!F52=0,\" \",シミュレーション※金額入力可能!F52)","v":" "},{"$f":"IF(シミュレーション※金額入力可能!F52=0,\"\",IF(IF(情報入力!E$54=シミュレーション※金額入力可能!C52,情報入力!G$54,0)=0,\"\",\"★\"))","v":""},null,{"$f":"IF(シミュレーション※金額入力可能!H52=0,\" \",シミュレーション※金額入力可能!H52)","v":" "}]
[10,"令和5年1月",{"$f":"IF(シミュレーション※金額入力可能!F29=0,\" \",シミュレーション※金額入力可能!F29)","v":" "},{"$f":"IF(シミュレーション※金額入力可能!F29=0,\"\",IF(IF(情報入力!E$50=シミュレーション※金額入力可能!C29,情報入力!G$50,0)=0,\"\",\"★\"))","v":""},null,{"$f":"IF(シミュレーション※金額入力可能!H29=0,\" \",シミュレーション※金額入力可能!H29)","v":" "},null,10,"令和7年1月",{"$f":"IF(シミュレーション※金額入力可能!F53=0,\" \",シミュレーション※金額入力可能!F53)","v":" "},{"$f":"IF(シミュレーション※金額入力可能!F53=0,\"\",IF(IF(情報入力!E$54=シミュレーション※金額入力可能!C53,情報入力!G$54,0)=0,\"\",\"★\"))","v":""},null,{"$f":"IF(シミュレーション※金額入力可能!H53=0,\" \",シミュレーション※金額入力可能!H53)","v":" "}]
[11,"令和5年2月",{"$f":"IF(シミュレーション※金額入力可能!F30=0,\" \",シミュレーション※金額入力可能!F30)","v":" "},{"$f":"IF(シミュレーション※金額入力可能!F30=0,\"\",IF(IF(情報入力!E$50=シミュレーション※金額入力可能!C30,情報入力!G$50,0)=0,\"\",\"★\"))","v":""},null,{"$f":"IF(シミュレーション※金額入力可能!H30=0,\" \",シミュレーション※金額入力可能!H30)","v":" "},null,11,null,{"$f":"IF(シミュレーション※金額入力可能!F54=0,\" \",シミュレーション※金額入力可能!F54)","v":" "},{"$f":"IF(シミュレーション※金額入力可能!F54=0,\"\",IF(IF(情報入力!E$54=シミュレーション※金額入力可能!C54,情報入力!G$54,0)=0,\"\",\"★\"))","v":""},null,{"$f":"IF(シミュレーション※金額入力可能!H54=0,\" \",シミュレーション※金額入力可能!H54)","v":" "}]
[12,"令和5年3月",{"$f":"IF(シミュレーション※金額入力可能!F31=0,\" \",シミュレーション※金額入力可能!F31)","v":" "},{"$f":"IF(シミュレーション※金額入力可能!F31=0,\"\",IF(IF(情報入力!E$50=シミュレーション※金額入力可能!C31,情報入力!G$50,0)=0,\"\",\"★\"))","v":""},null,{"$f":"IF(シミュレーション※金額入力可能!H31=0,\" \",シミュレーション※金額入力可能!H31)","v":" "},null,12,null,{"$f":"IF(シミュレーション※金額入力可能!F55=0,\" \",シミュレーション※金額入力可能!F55)","v":" "},{"$f":"IF(シミュレーション※金額入力可能!F55=0,\"\",IF(IF(情報入力!E$54=シミュレーション※金額入力可能!C55,情報入力!G$54,0)=0,\"\",\"★\"))","v":""},null,{"$f":"IF(シミュレーション※金額入力可能!H55=0,\" \",シミュレーション※金額入力可能!H55)","v":" "}]
[null,"納入合計",{"$f":"SUM(C23:D34)","v":0},null,null,null,null,null,"納入合計",{"$f":"SUM(J23:K34)","v":0}]
[]
[null,"※上記計画の通り、学費等の分割納入制度を申し込みます。事務手数料として15,000円(税別/年数)を指定日までにお納めいただきます。"]